BEGIN:VCALENDAR
VERSION:2.0
PRODID:-//Events | FID-Recht//NONSGML Events//EN
CALSCALE:GREGORIAN
X-ORIGINAL-URL:https://events.intrecht.de/termine/
X-WR-CALDESC:Events | FID-Recht - Events
BEGIN:VEVENT
UID:20230109T1509Z-1673276999.9745-EO-7935-1@172.16.200.151
STATUS:CONFIRMED
DTSTAMP:20260421T133415Z
CREATED:20230105T074820Z
LAST-MODIFIED:20230105T074820Z
DTSTART;VALUE=DATE:20230119
DTEND;VALUE=DATE:20230120
SUMMARY: Hybrides Auftakttreffen Interdisziplinärer Arbeitskreis Polizeifor
 schung
DESCRIPTION: 19.1.2023 um 16 Uhr s.t. / Online und Frankfurt am Main Teilne
 hmer*innen des AK können Polizeiforscher*innen aller Disziplinen\, Studiere
 nde und Praktiker*innen sein. Bei Interesse an einer Teilnahme am Auftakttr
 effen und am Arbeitskreis sowie für Informationen zu Vorträgen Anmeldung üb
 er: praunsmaendel@jur.uni-frankfurt.de  
X-ALT-DESC;FMTTYPE=text/html: <p>19.1.2023 um 16 Uhr s.t. / Online und Fran
 kfurt am Main</p><p>Teilnehmer*innen des AK können Polizeiforscher*innen al
 ler Disziplinen\, Studierende und Praktiker*innen sein. <strong>Bei Interes
 se an einer Teilnahme am Auftakttreffen und am Arbeitskreis sowie für Infor
 mationen zu Vorträgen Anmeldung über</strong>: <a href="mailto:praunsmaende
 l@jur.uni-frankfurt.de">praunsmaendel@jur.uni-frankfurt.de</a></p><p> </p><
 p>[av_button label='iCal-Export' link='./feed/eo-events' link_target='' siz
 e='small' position='center' label_display='' title_attr='' icon_select='yes
 ' icon='ue85b' font='entypo-fontello' color='custom' custom_bg='#b5123e' cu
 stom_font='#ffffff' av_uid='' id='' custom_class='' admin_preview_bg='']</p
 >
CATEGORIES:Recht interdisziplinär
LOCATION:Inland
GEO:0.000000;0.000000
ORGANIZER;CN="ViFa-Recht":MAILTO:vifa-recht@sbb.spk-berlin.de
URL;VALUE=URI:https://events.intrecht.de/termine/termin/hybrides-auftakttre
 ffen-interdisziplinaerer-arbeitskreis-polizeiforschung/
END:VEVENT
BEGIN:VTIMEZONE
TZID:Europe/Berlin
BEGIN:STANDARD
TZOFFSETFROM:+0200
TZOFFSETTO:+0100
DTSTART:20221030T010000
TZNAME:CET
END:STANDARD
END:VTIMEZONE
END:VCALENDAR
