BEGIN:VCALENDAR
VERSION:2.0
PRODID:-//Events | FID-Recht//NONSGML Events//EN
CALSCALE:GREGORIAN
X-ORIGINAL-URL:https://events.intrecht.de/termine/
X-WR-CALDESC:Events | FID-Recht - Events
BEGIN:VEVENT
UID:20221211T0542Z-1670737339.9622-EO-7569-1@172.16.200.151
STATUS:CONFIRMED
DTSTAMP:20260421T165907Z
CREATED:20221124T141659Z
LAST-MODIFIED:20221124T142024Z
DTSTART;VALUE=DATE:20221208
DTEND;VALUE=DATE:20221209
SUMMARY: Hybrider Vortrag aus der Reihe Afternoon Talks on Islamic Law: ”Ru
 pture or Continuity in Muslim Family Law: A New Look at the ‘Interpretative
  Viability’ of Codified Sharʿīa“
DESCRIPTION: 8.12.2022 / Online und Hamburg (Anmeldungsfrist: 7.12.2022) ht
 tps://events.mpipriv.de/afternoon-talk-ido-shahar-08-12-2022  
X-ALT-DESC;FMTTYPE=text/html: <p>8.12.2022 / Online und Hamburg <strong>(An
 meldungsfrist: 7.12.2022)</strong></p><p><a href="https://events.mpipriv.de
 /afternoon-talk-ido-shahar-08-12-2022">https://events.mpipriv.de/afternoon-
 talk-ido-shahar-08-12-2022</a></p><p> </p><p>[av_button label='iCal-Export'
  link='./feed/eo-events' link_target='' size='small' position='center' labe
 l_display='' title_attr='' icon_select='yes' icon='ue85b' font='entypo-font
 ello' color='custom' custom_bg='#b5123e' custom_font='#ffffff' av_uid='' id
 ='' custom_class='' admin_preview_bg='']</p>
CATEGORIES:Recht interdisziplinär
LOCATION:Online
GEO:0.000000;0.000000
ORGANIZER;CN="ViFa-Recht":MAILTO:vifa-recht@sbb.spk-berlin.de
URL;VALUE=URI:https://events.intrecht.de/termine/termin/hybrider-vortrag-au
 s-der-reihe-afternoon-talks-on-islamic-law-rupture-or-continuity-in-muslim-
 family-law-a-new-look-at-the-interpretative-viability-of-codified-shar%ca%b
 fia/
END:VEVENT
BEGIN:VTIMEZONE
TZID:Europe/Berlin
BEGIN:STANDARD
TZOFFSETFROM:+0200
TZOFFSETTO:+0100
DTSTART:20221030T010000
TZNAME:CET
END:STANDARD
END:VTIMEZONE
END:VCALENDAR
