BEGIN:VCALENDAR
VERSION:2.0
PRODID:-//Events | FID-Recht//NONSGML Events//EN
CALSCALE:GREGORIAN
X-ORIGINAL-URL:https://events.intrecht.de/termine/
X-WR-CALDESC:Events | FID-Recht - Events
BEGIN:VEVENT
UID:20200603T1418Z-1591193923.3362-EO-587-1@172.16.200.141
STATUS:CONFIRMED
DTSTAMP:20260426T013415Z
CREATED:20230807T083024Z
LAST-MODIFIED:20230807T083133Z
DTSTART;VALUE=DATE:20231109
DTEND;VALUE=DATE:20231111
SUMMARY: Hybrid International Conference on the Future of African Trade and
  the AfCFTA: Taking Stock of the Implementation of the AfCFTA: Continental 
 Efforts\, State Government and Private Sector Involvement
DESCRIPTION: 9.-10.11.2023 / Online und Accra (Frist für Einreichungen: 30.
 9.2023) https://upsaafricanlawconferences.org/wp-content/uploads/2023/07/Ca
 ll-for-Papers2.pdf
X-ALT-DESC;FMTTYPE=text/html: <p>9.-10.11.2023 / Online und Accra <strong>(
 Frist für Einreichungen: 30.9.2023)</strong></p><p><a href="https://upsaafr
 icanlawconferences.org/wp-content/uploads/2023/07/Call-for-Papers2.pdf">htt
 ps://upsaafricanlawconferences.org/wp-content/uploads/2023/07/Call-for-Pape
 rs2.pdf</a></p><p>[av_button label='iCal-Export' link='./feed/eo-events' li
 nk_target='' size='small' position='center' label_display='' title_attr='' 
 icon_select='yes' icon='ue85b' font='entypo-fontello' color='custom' custom
 _bg='#b5123e' custom_font='#ffffff' av_uid='' id='' custom_class='' admin_p
 review_bg='']</p>
CATEGORIES:Recht interdisziplinär
LOCATION:Online
GEO:0.000000;0.000000
ORGANIZER;CN="ViFa-Recht":MAILTO:vifa-recht@sbb.spk-berlin.de
URL;VALUE=URI:https://events.intrecht.de/termine/termin/hybrid-internationa
 l-conference-on-the-future-of-african-trade-and-the-afcfta-taking-stock-of-
 the-implementation-of-the-afcfta-continental-efforts-state-government-and-p
 rivate-sector-involvement/
END:VEVENT
BEGIN:VTIMEZONE
TZID:Europe/Berlin
BEGIN:STANDARD
TZOFFSETFROM:+0200
TZOFFSETTO:+0100
DTSTART:20231029T010000
TZNAME:CET
END:STANDARD
END:VTIMEZONE
END:VCALENDAR
