BEGIN:VCALENDAR
VERSION:2.0
PRODID:-//Events | FID-Recht//NONSGML Events//EN
CALSCALE:GREGORIAN
X-ORIGINAL-URL:https://events.intrecht.de/termine/
X-WR-CALDESC:Events | FID-Recht - Events
BEGIN:VEVENT
UID:20200603T1418Z-1591193923.3362-EO-587-1@172.16.200.141
STATUS:CONFIRMED
DTSTAMP:20260426T012431Z
CREATED:20230615T081326Z
LAST-MODIFIED:20230615T081326Z
DTSTART;VALUE=DATE:20230710
DTEND;VALUE=DATE:20230711
SUMMARY: Humboldt Comparative and European Law Lectures (HUCELL): Prelimina
 ry Rulings before the General Court: What Architecture for the EU Courts?
DESCRIPTION: 10.7.2023 / Berlin https://www.rewi.hu-berlin.de/de/lf/oe/rhp/
 veranstaltungen/hucell/hucell-michal-bobek-am-20-juli-2023
X-ALT-DESC;FMTTYPE=text/html: <p>10.7.2023 / Berlin</p><p><a href="https://
 www.rewi.hu-berlin.de/de/lf/oe/rhp/veranstaltungen/hucell/hucell-michal-bob
 ek-am-20-juli-2023">https://www.rewi.hu-berlin.de/de/lf/oe/rhp/veranstaltun
 gen/hucell/hucell-michal-bobek-am-20-juli-2023</a></p><p>[av_button label='
 iCal-Export' link='./feed/eo-events' link_target='' size='small' position='
 center' label_display='' title_attr='' icon_select='yes' icon='ue85b' font=
 'entypo-fontello' color='custom' custom_bg='#b5123e' custom_font='#ffffff' 
 av_uid='' id='' custom_class='' admin_preview_bg='']</p>
CATEGORIES:Europäisches / Internationales Recht
LOCATION:Inland
GEO:0.000000;0.000000
ORGANIZER;CN="ViFa-Recht":MAILTO:vifa-recht@sbb.spk-berlin.de
URL;VALUE=URI:https://events.intrecht.de/termine/termin/humboldt-comparativ
 e-and-european-law-lectures-hucell-preliminary-rulings-before-the-general-c
 ourt-what-architecture-for-the-eu-courts/
END:VEVENT
BEGIN:VTIMEZONE
TZID:Europe/Berlin
BEGIN:DAYLIGHT
TZOFFSETFROM:+0100
TZOFFSETTO:+0200
DTSTART:20230326T010000
TZNAME:CEST
END:DAYLIGHT
END:VTIMEZONE
END:VCALENDAR
