BEGIN:VCALENDAR
VERSION:2.0
PRODID:-//Events | FID-Recht//NONSGML Events//EN
CALSCALE:GREGORIAN
X-ORIGINAL-URL:https://events.intrecht.de/termine/
X-WR-CALDESC:Events | FID-Recht - Events
BEGIN:VEVENT
UID:20200602T0945Z-1591091115.9737-EO-599-1@172.16.200.141
STATUS:CONFIRMED
DTSTAMP:20260423T034243Z
CREATED:20260210T121016Z
LAST-MODIFIED:20260210T121016Z
DTSTART;VALUE=DATE:20260507
DTEND;VALUE=DATE:20260509
SUMMARY: Humanrightization in Migration Societies: Conditions\, Forms\, Con
 sequences (Conference)
DESCRIPTION: 7.-8.5.2026 / Giessen (Einreichungsfrist: 23.2.2026) https://w
 ww.medimi.de/kontext/controllers/document.php/381.36dab9.pdf
X-ALT-DESC;FMTTYPE=text/html: <p>7.-8.5.2026 / Giessen <strong>(Einreichung
 sfrist: 23.2.2026)</strong></p><p><a href="https://www.medimi.de/kontext/co
 ntrollers/document.php/381.36dab9.pdf">https://www.medimi.de/kontext/contro
 llers/document.php/381.36dab9.pdf</a></p><p>[av_button label='iCal-Export' 
 link='./feed/eo-events' link_target='' size='small' position='center' label
 _display='' title_attr='' icon_select='yes' icon='ue85b' font='entypo-fonte
 llo' color='custom' custom_bg='#b5123e' custom_font='#ffffff' av_uid='' id=
 '' custom_class='' admin_preview_bg='']</p>
CATEGORIES:Recht interdisziplinär
LOCATION:Inland
GEO:0.000000;0.000000
ORGANIZER;CN="ViFa-Recht":MAILTO:vifa-recht@sbb.spk-berlin.de
URL;VALUE=URI:https://events.intrecht.de/termine/termin/humanrightization-i
 n-migration-societies-conditions-forms-consequences-conference/
END:VEVENT
BEGIN:VTIMEZONE
TZID:Europe/Berlin
BEGIN:DAYLIGHT
TZOFFSETFROM:+0100
TZOFFSETTO:+0200
DTSTART:20260329T010000
TZNAME:CEST
END:DAYLIGHT
END:VTIMEZONE
END:VCALENDAR
