BEGIN:VCALENDAR
VERSION:2.0
PRODID:-//Events | FID-Recht//NONSGML Events//EN
CALSCALE:GREGORIAN
X-ORIGINAL-URL:https://events.intrecht.de/termine/
X-WR-CALDESC:Events | FID-Recht - Events
BEGIN:VEVENT
UID:20200603T1418Z-1591193923.3362-EO-587-1@172.16.200.141
STATUS:CONFIRMED
DTSTAMP:20260422T225110Z
CREATED:20230810T095649Z
LAST-MODIFIED:20230810T095649Z
DTSTART;VALUE=DATE:20231108
DTEND;VALUE=DATE:20231109
SUMMARY: Human rights due diligence in the arms trade: Tilting at windmills
 ? (Online-Event)
DESCRIPTION: 8.11.2023 / Online https://www.hertie-school.org/en/events/eve
 nt-detail/event/human-rights-due-diligence-in-the-arms-trade-tilting-at-win
 dmills
X-ALT-DESC;FMTTYPE=text/html: <p>8.11.2023 / Online</p><p><a href="https://
 www.hertie-school.org/en/events/event-detail/event/human-rights-due-diligen
 ce-in-the-arms-trade-tilting-at-windmills">https://www.hertie-school.org/en
 /events/event-detail/event/human-rights-due-diligence-in-the-arms-trade-til
 ting-at-windmills</a></p><p>[av_button label='iCal-Export' link='./feed/eo-
 events' link_target='' size='small' position='center' label_display='' titl
 e_attr='' icon_select='yes' icon='ue85b' font='entypo-fontello' color='cust
 om' custom_bg='#b5123e' custom_font='#ffffff' av_uid='' id='' custom_class=
 '' admin_preview_bg='']</p>
CATEGORIES:Europäisches / Internationales Recht
LOCATION:Online
GEO:0.000000;0.000000
ORGANIZER;CN="ViFa-Recht":MAILTO:vifa-recht@sbb.spk-berlin.de
URL;VALUE=URI:https://events.intrecht.de/termine/termin/human-rights-due-di
 ligence-in-the-arms-trade-tilting-at-windmills-online-event/
END:VEVENT
BEGIN:VTIMEZONE
TZID:Europe/Berlin
BEGIN:STANDARD
TZOFFSETFROM:+0200
TZOFFSETTO:+0100
DTSTART:20231029T010000
TZNAME:CET
END:STANDARD
END:VTIMEZONE
END:VCALENDAR
