BEGIN:VCALENDAR
VERSION:2.0
PRODID:-//Events | FID-Recht//NONSGML Events//EN
CALSCALE:GREGORIAN
X-ORIGINAL-URL:https://events.intrecht.de/termine/
X-WR-CALDESC:Events | FID-Recht - Events
BEGIN:VEVENT
UID:20200603T1418Z-1591193923.3362-EO-587-1@172.16.200.141
STATUS:CONFIRMED
DTSTAMP:20260422T173720Z
CREATED:20240503T102257Z
LAST-MODIFIED:20240503T102257Z
DTSTART;VALUE=DATE:20240527
DTEND;VALUE=DATE:20240530
SUMMARY: Human Rights Beyond Territory and State (Conference)
DESCRIPTION: 27.-29.5.2024 / Brüssel (Anmeldefrist: 15.5.2024) https://lawd
 ev.org/conference-human-rights-beyond-territory-and-state
X-ALT-DESC;FMTTYPE=text/html: <p>27.-29.5.2024 / Brüssel <strong>(Anmeldefr
 ist:</strong> <strong>15.5.2024)</strong></p><p><a href="https://lawdev.org
 /conference-human-rights-beyond-territory-and-state">https://lawdev.org/con
 ference-human-rights-beyond-territory-and-state</a></p><p>[av_button label=
 'iCal-Export' link='./feed/eo-events' link_target='' size='small' position=
 'center' label_display='' title_attr='' icon_select='yes' icon='ue85b' font
 ='entypo-fontello' color='custom' custom_bg='#b5123e' custom_font='#ffffff'
  av_uid='' id='' custom_class='' admin_preview_bg='']</p>
CATEGORIES:Europäisches / Internationales Recht
LOCATION:Ausland
GEO:0.000000;0.000000
ORGANIZER;CN="ViFa-Recht":MAILTO:vifa-recht@sbb.spk-berlin.de
URL;VALUE=URI:https://events.intrecht.de/termine/termin/human-rights-beyond
 -territory-and-state-conference/
END:VEVENT
BEGIN:VTIMEZONE
TZID:Europe/Berlin
BEGIN:DAYLIGHT
TZOFFSETFROM:+0100
TZOFFSETTO:+0200
DTSTART:20240331T010000
TZNAME:CEST
END:DAYLIGHT
END:VTIMEZONE
END:VCALENDAR
