BEGIN:VCALENDAR
VERSION:2.0
PRODID:-//Events | FID-Recht//NONSGML Events//EN
CALSCALE:GREGORIAN
X-ORIGINAL-URL:https://events.intrecht.de/termine/
X-WR-CALDESC:Events | FID-Recht - Events
BEGIN:VEVENT
UID:20200603T1418Z-1591193923.3362-EO-587-1@172.16.200.141
STATUS:CONFIRMED
DTSTAMP:20260425T200110Z
CREATED:20230622T085909Z
LAST-MODIFIED:20230622T085909Z
DTSTART;VALUE=DATE:20230714
DTEND;VALUE=DATE:20230716
SUMMARY: Human Rights and Sustainable Development (Conference)
DESCRIPTION: 14.-15.7.2023 / Online und Lancaster https://www.lancaster.ac.
 uk/law/news/conference-on-human-rights-and-sustainable-development
X-ALT-DESC;FMTTYPE=text/html: <p>14.-15.7.2023 / Online und Lancaster</p><p
 ><a href="https://www.lancaster.ac.uk/law/news/conference-on-human-rights-a
 nd-sustainable-development">https://www.lancaster.ac.uk/law/news/conference
 -on-human-rights-and-sustainable-development</a></p><p>[av_button label='iC
 al-Export' link='./feed/eo-events' link_target='' size='small' position='ce
 nter' label_display='' title_attr='' icon_select='yes' icon='ue85b' font='e
 ntypo-fontello' color='custom' custom_bg='#b5123e' custom_font='#ffffff' av
 _uid='' id='' custom_class='' admin_preview_bg='']</p>
CATEGORIES:Europäisches / Internationales Recht
LOCATION:Online
GEO:0.000000;0.000000
ORGANIZER;CN="ViFa-Recht":MAILTO:vifa-recht@sbb.spk-berlin.de
URL;VALUE=URI:https://events.intrecht.de/termine/termin/human-rights-and-su
 stainable-development-conference/
END:VEVENT
BEGIN:VTIMEZONE
TZID:Europe/Berlin
BEGIN:DAYLIGHT
TZOFFSETFROM:+0100
TZOFFSETTO:+0200
DTSTART:20230326T010000
TZNAME:CEST
END:DAYLIGHT
END:VTIMEZONE
END:VCALENDAR
