BEGIN:VCALENDAR
VERSION:2.0
PRODID:-//Events | FID-Recht//NONSGML Events//EN
CALSCALE:GREGORIAN
X-ORIGINAL-URL:https://events.intrecht.de/termine/
X-WR-CALDESC:Events | FID-Recht - Events
BEGIN:VEVENT
UID:20200603T1418Z-1591193923.3362-EO-587-1@172.16.200.141
STATUS:CONFIRMED
DTSTAMP:20260425T234611Z
CREATED:20230622T090435Z
LAST-MODIFIED:20230622T090435Z
DTSTART;VALUE=DATE:20230706
DTEND;VALUE=DATE:20230708
SUMMARY: Human Rights and Procedure: Perspectives of International Law (Con
 ference)
DESCRIPTION: 6.-7.7.2023 / Luxemburg (Anmeldefrist: 26.6.2023) https://www.
 mpi.lu/fileadmin/mpi/medien/events/2023/July/6-7/Poster_Human_Right_and_Pro
 cedure.pdf
X-ALT-DESC;FMTTYPE=text/html: <p>6.-7.7.2023 / Luxemburg <strong>(Anmeldefr
 ist: 26.6.2023)</strong></p><p><a href="https://www.mpi.lu/fileadmin/mpi/me
 dien/events/2023/July/6-7/Poster_Human_Right_and_Procedure.pdf">https://www
 .mpi.lu/fileadmin/mpi/medien/events/2023/July/6-7/Poster_Human_Right_and_Pr
 ocedure.pdf</a></p><p>[av_button label='iCal-Export' link='./feed/eo-events
 ' link_target='' size='small' position='center' label_display='' title_attr
 ='' icon_select='yes' icon='ue85b' font='entypo-fontello' color='custom' cu
 stom_bg='#b5123e' custom_font='#ffffff' av_uid='' id='' custom_class='' adm
 in_preview_bg='']</p>
CATEGORIES:Europäisches / Internationales Recht
LOCATION:Ausland
GEO:0.000000;0.000000
ORGANIZER;CN="ViFa-Recht":MAILTO:vifa-recht@sbb.spk-berlin.de
URL;VALUE=URI:https://events.intrecht.de/termine/termin/human-rights-and-pr
 ocedure-perspectives-of-international-law-conference/
END:VEVENT
BEGIN:VTIMEZONE
TZID:Europe/Berlin
BEGIN:DAYLIGHT
TZOFFSETFROM:+0100
TZOFFSETTO:+0200
DTSTART:20230326T010000
TZNAME:CEST
END:DAYLIGHT
END:VTIMEZONE
END:VCALENDAR
