BEGIN:VCALENDAR
VERSION:2.0
PRODID:-//Events | FID-Recht//NONSGML Events//EN
CALSCALE:GREGORIAN
X-ORIGINAL-URL:https://events.intrecht.de/termine/
X-WR-CALDESC:Events | FID-Recht - Events
BEGIN:VEVENT
UID:20200603T1418Z-1591193923.3362-EO-587-1@172.16.200.141
STATUS:CONFIRMED
DTSTAMP:20260425T164620Z
CREATED:20230424T124020Z
LAST-MODIFIED:20230424T124020Z
DTSTART;VALUE=DATE:20231012
DTEND;VALUE=DATE:20231013
SUMMARY: Human Rights and Natural Resources Workshop: Balancing Scarcity\, 
 Accessibility\, and Protection for a Sustainable Development
DESCRIPTION: 12.10.2023 / Rotterdam (Frist für Einreichungen: 4.6.2023) htt
 ps://voelkerrechtsblog.org/calls-for-papers/human-rights-and-natural-resour
 ces-workshop/
X-ALT-DESC;FMTTYPE=text/html: <p>12.10.2023 / Rotterdam <strong>(Frist für 
 Einreichungen: 4.6.2023)</strong></p><p><a href="https://voelkerrechtsblog.
 org/calls-for-papers/human-rights-and-natural-resources-workshop/">https://
 voelkerrechtsblog.org/calls-for-papers/human-rights-and-natural-resources-w
 orkshop/</a></p><p>[av_button label='iCal-Export' link='./feed/eo-events' l
 ink_target='' size='small' position='center' label_display='' title_attr=''
  icon_select='yes' icon='ue85b' font='entypo-fontello' color='custom' custo
 m_bg='#b5123e' custom_font='#ffffff' av_uid='' id='' custom_class='' admin_
 preview_bg='']</p>
CATEGORIES:Recht interdisziplinär
LOCATION:Ausland
GEO:0.000000;0.000000
ORGANIZER;CN="ViFa-Recht":MAILTO:vifa-recht@sbb.spk-berlin.de
URL;VALUE=URI:https://events.intrecht.de/termine/termin/human-rights-and-na
 tural-resources-workshop-balancing-scarcity-accessibility-and-protection-fo
 r-a-sustainable-development/
END:VEVENT
BEGIN:VTIMEZONE
TZID:Europe/Berlin
BEGIN:DAYLIGHT
TZOFFSETFROM:+0100
TZOFFSETTO:+0200
DTSTART:20230326T010000
TZNAME:CEST
END:DAYLIGHT
END:VTIMEZONE
END:VCALENDAR
