BEGIN:VCALENDAR
VERSION:2.0
PRODID:-//Events | FID-Recht//NONSGML Events//EN
CALSCALE:GREGORIAN
X-ORIGINAL-URL:https://events.intrecht.de/termine/
X-WR-CALDESC:Events | FID-Recht - Events
BEGIN:VEVENT
UID:20200603T1418Z-1591193923.3362-EO-587-1@172.16.200.141
STATUS:CONFIRMED
DTSTAMP:20260422T154345Z
CREATED:20240830T092803Z
LAST-MODIFIED:20240830T092803Z
DTSTART;VALUE=DATE:20240904
DTEND;VALUE=DATE:20240905
SUMMARY: Human Rights and Human Dignity in Catastrophic Times (Hybrid Event
 )
DESCRIPTION: 4.9.2024 / Online und Kochi https://www.graduateinstitute.ch/c
 ommunications/events/human-rights-and-human-dignity-catastrophic-times-1
X-ALT-DESC;FMTTYPE=text/html: <p>4.9.2024 / Online und Kochi</p><p><a href=
 "https://www.graduateinstitute.ch/communications/events/human-rights-and-hu
 man-dignity-catastrophic-times-1">https://www.graduateinstitute.ch/communic
 ations/events/human-rights-and-human-dignity-catastrophic-times-1</a></p><p
 >[av_button label='iCal-Export' link='./feed/eo-events' link_target='' size
 ='small' position='center' label_display='' title_attr='' icon_select='yes'
  icon='ue85b' font='entypo-fontello' color='custom' custom_bg='#b5123e' cus
 tom_font='#ffffff' av_uid='' id='' custom_class='' admin_preview_bg='']</p>
CATEGORIES:Europäisches / Internationales Recht
LOCATION:Hybrid
GEO:0.000000;0.000000
ORGANIZER;CN="ViFa-Recht":MAILTO:vifa-recht@sbb.spk-berlin.de
URL;VALUE=URI:https://events.intrecht.de/termine/termin/human-rights-and-hu
 man-dignity-in-catastrophic-times-hybrid-event/
END:VEVENT
BEGIN:VTIMEZONE
TZID:Europe/Berlin
BEGIN:DAYLIGHT
TZOFFSETFROM:+0100
TZOFFSETTO:+0200
DTSTART:20240331T010000
TZNAME:CEST
END:DAYLIGHT
END:VTIMEZONE
END:VCALENDAR
