BEGIN:VCALENDAR
VERSION:2.0
PRODID:-//Events | FID-Recht//NONSGML Events//EN
CALSCALE:GREGORIAN
X-ORIGINAL-URL:https://events.intrecht.de/termine/
X-WR-CALDESC:Events | FID-Recht - Events
BEGIN:VEVENT
UID:20200602T0945Z-1591091115.9737-EO-599-1@172.16.200.141
STATUS:CONFIRMED
DTSTAMP:20260425T175016Z
CREATED:20260310T091614Z
LAST-MODIFIED:20260310T091614Z
DTSTART;VALUE=DATE:20260311
DTEND;VALUE=DATE:20260312
SUMMARY: Human Rights and Circular Economy: An International Legal Framewor
 k for a Socio-Ecological Economy (Virtual Lecture)
DESCRIPTION: 11.3.2026 / Online https://events.mpipriv.de/b?p=Coporate_Resp
 onsibility_ESG_With_Giacomo_Sebis
X-ALT-DESC;FMTTYPE=text/html: <p>11.3.2026 / Online</p><p><a href="https://
 events.mpipriv.de/b?p=Coporate_Responsibility_ESG_With_Giacomo_Sebis">https
 ://events.mpipriv.de/b?p=Coporate_Responsibility_ESG_With_Giacomo_Sebis</a>
 </p><p>[av_button label='iCal-Export' link='./feed/eo-events' link_target='
 ' size='small' position='center' label_display='' title_attr='' icon_select
 ='yes' icon='ue85b' font='entypo-fontello' color='custom' custom_bg='#b5123
 e' custom_font='#ffffff' av_uid='' id='' custom_class='' admin_preview_bg='
 ']</p>
CATEGORIES:Recht interdisziplinär
LOCATION:Online
GEO:0.000000;0.000000
ORGANIZER;CN="ViFa-Recht":MAILTO:vifa-recht@sbb.spk-berlin.de
URL;VALUE=URI:https://events.intrecht.de/termine/termin/human-rights-and-ci
 rcular-economy-an-international-legal-framework-for-a-socio-ecological-econ
 omy-virtual-lecture/
END:VEVENT
BEGIN:VTIMEZONE
TZID:Europe/Berlin
BEGIN:STANDARD
TZOFFSETFROM:+0200
TZOFFSETTO:+0100
DTSTART:20251026T010000
TZNAME:CET
END:STANDARD
END:VTIMEZONE
END:VCALENDAR
