BEGIN:VCALENDAR
VERSION:2.0
PRODID:-//Events | FID-Recht//NONSGML Events//EN
CALSCALE:GREGORIAN
X-ORIGINAL-URL:https://events.intrecht.de/termine/
X-WR-CALDESC:Events | FID-Recht - Events
BEGIN:VEVENT
UID:20200603T1418Z-1591193923.3362-EO-587-1@172.16.200.141
STATUS:CONFIRMED
DTSTAMP:20260422T141242Z
CREATED:20240328T144847Z
LAST-MODIFIED:20240328T144847Z
DTSTART;VALUE=DATE:20241107
DTEND;VALUE=DATE:20241109
SUMMARY: Human Rights and Artificial Intelligence: Addressing Challenges\, 
 Enabling Rights (Conference)
DESCRIPTION: 7.-8.11.2024 / Potsdam (Einreichungsfrist: 15.4.2024) https://
 www.uni-potsdam.de/fileadmin/projects/mrz/images/CfP_30JahreMRZ.pdf
X-ALT-DESC;FMTTYPE=text/html: <p>7.-8.11.2024 / Potsdam <strong>(Einreichun
 gsfrist: 15.4.2024)</strong></p><p><a href="https://www.uni-potsdam.de/file
 admin/projects/mrz/images/CfP_30JahreMRZ.pdf">https://www.uni-potsdam.de/fi
 leadmin/projects/mrz/images/CfP_30JahreMRZ.pdf</a></p><p>[av_button label='
 iCal-Export' link='./feed/eo-events' link_target='' size='small' position='
 center' label_display='' title_attr='' icon_select='yes' icon='ue85b' font=
 'entypo-fontello' color='custom' custom_bg='#b5123e' custom_font='#ffffff' 
 av_uid='' id='' custom_class='' admin_preview_bg='']</p>
CATEGORIES:Recht interdisziplinär
LOCATION:Inland
GEO:0.000000;0.000000
ORGANIZER;CN="ViFa-Recht":MAILTO:vifa-recht@sbb.spk-berlin.de
URL;VALUE=URI:https://events.intrecht.de/termine/termin/human-rights-and-ar
 tificial-intelligence-addressing-challenges-enabling-rights-conference/
END:VEVENT
BEGIN:VTIMEZONE
TZID:Europe/Berlin
BEGIN:STANDARD
TZOFFSETFROM:+0200
TZOFFSETTO:+0100
DTSTART:20241027T010000
TZNAME:CET
END:STANDARD
END:VTIMEZONE
END:VCALENDAR
