BEGIN:VCALENDAR
VERSION:2.0
PRODID:-//Events | FID-Recht//NONSGML Events//EN
CALSCALE:GREGORIAN
X-ORIGINAL-URL:https://events.intrecht.de/termine/
X-WR-CALDESC:Events | FID-Recht - Events
BEGIN:VEVENT
UID:20200603T1418Z-1591193923.3362-EO-587-1@172.16.200.141
STATUS:CONFIRMED
DTSTAMP:20260425T211427Z
CREATED:20231120T084655Z
LAST-MODIFIED:20231120T084655Z
DTSTART;VALUE=DATE:20240516
DTEND;VALUE=DATE:20240517
SUMMARY: Human Rights Accountability of Non-Universally Recognised States a
 nd State-Like Entities (Workshop)
DESCRIPTION: 16.5.2024 / Utrecht (Einreichungsfrist: 15.12.2023) https://ww
 w.uu.nl/en/news/call-for-abstracts-human-rights-accountability-of-non-unive
 rsally-recognised-states-and-state-like
X-ALT-DESC;FMTTYPE=text/html: <p>16.5.2024 / Utrecht <strong>(Einreichungsf
 rist: 15.12.2023)</strong></p><p><a href="https://www.uu.nl/en/news/call-fo
 r-abstracts-human-rights-accountability-of-non-universally-recognised-state
 s-and-state-like">https://www.uu.nl/en/news/call-for-abstracts-human-rights
 -accountability-of-non-universally-recognised-states-and-state-like</a></p>
 <p>[av_button label='iCal-Export' link='./feed/eo-events' link_target='' si
 ze='small' position='center' label_display='' title_attr='' icon_select='ye
 s' icon='ue85b' font='entypo-fontello' color='custom' custom_bg='#b5123e' c
 ustom_font='#ffffff' av_uid='' id='' custom_class='' admin_preview_bg='']</
 p>
CATEGORIES:Europäisches / Internationales Recht
LOCATION:Ausland
GEO:0.000000;0.000000
ORGANIZER;CN="ViFa-Recht":MAILTO:vifa-recht@sbb.spk-berlin.de
URL;VALUE=URI:https://events.intrecht.de/termine/termin/human-rights-accoun
 tability-of-non-universally-recognised-states-and-state-like-entities-works
 hop/
END:VEVENT
BEGIN:VTIMEZONE
TZID:Europe/Berlin
BEGIN:DAYLIGHT
TZOFFSETFROM:+0100
TZOFFSETTO:+0200
DTSTART:20240331T010000
TZNAME:CEST
END:DAYLIGHT
END:VTIMEZONE
END:VCALENDAR
