BEGIN:VCALENDAR
VERSION:2.0
PRODID:-//Events | FID-Recht//NONSGML Events//EN
CALSCALE:GREGORIAN
X-ORIGINAL-URL:https://events.intrecht.de/termine/
X-WR-CALDESC:Events | FID-Recht - Events
BEGIN:VEVENT
UID:20201118T0850Z-1605689438.8319-EO-2068-1@172.16.200.141
STATUS:CONFIRMED
DTSTAMP:20260422T230416Z
CREATED:20201102T193937Z
LAST-MODIFIED:20201102T194205Z
DTSTART;VALUE=DATE:20201119
DTEND;VALUE=DATE:20201120
SUMMARY: Human Enhancement and Advanced Technologies in Terrorism and Belli
 gerencies (4th Young Researchers Workshop on Terrorism and Belligerency) (C
 all)
DESCRIPTION: 6.-18.6.2021\, Haifa (Frist für Einreichungen: 19.11.2020) htt
 ps://drive.google.com/file/d/1V7QHixeBaB_Oxy2V4U8rZ9po8dcZZI-4/view  
X-ALT-DESC;FMTTYPE=text/html: <p>6.-18.6.2021\, Haifa (Frist für Einreichun
 gen: 19.11.2020)</p><p><a href="https://drive.google.com/file/d/1V7QHixeBaB
 _Oxy2V4U8rZ9po8dcZZI-4/view">https://drive.google.com/file/d/1V7QHixeBaB_Ox
 y2V4U8rZ9po8dcZZI-4/view</a></p><p> </p><p>[av_button label='iCal-Export' l
 ink='./feed/eo-events' link_target='' size='small' position='center' label_
 display='' title_attr='' icon_select='yes' icon='ue85b' font='entypo-fontel
 lo' color='custom' custom_bg='#b5123e' custom_font='#ffffff' av_uid='' id='
 ' custom_class='' admin_preview_bg='']</p>
CATEGORIES:Europäisches / Internationales Recht,Öffentliches Recht
LOCATION:Ausland
GEO:0.000000;0.000000
ORGANIZER;CN="ViFa-Recht":MAILTO:vifa-recht@sbb.spk-berlin.de
URL;VALUE=URI:https://events.intrecht.de/termine/termin/human-enhancement-a
 nd-advanced-technologies-in-terrorism-and-belligerencies-4th-young-research
 ers-workshop-on-terrorism-and-belligerency-call/
END:VEVENT
BEGIN:VTIMEZONE
TZID:Europe/Berlin
BEGIN:STANDARD
TZOFFSETFROM:+0200
TZOFFSETTO:+0100
DTSTART:20201025T010000
TZNAME:CET
END:STANDARD
END:VTIMEZONE
END:VCALENDAR
