BEGIN:VCALENDAR
VERSION:2.0
PRODID:-//Events | FID-Recht//NONSGML Events//EN
CALSCALE:GREGORIAN
X-ORIGINAL-URL:https://events.intrecht.de/termine/
X-WR-CALDESC:Events | FID-Recht - Events
BEGIN:VEVENT
UID:20200603T1418Z-1591193923.3362-EO-587-1@172.16.200.141
STATUS:CONFIRMED
DTSTAMP:20260421T164206Z
CREATED:20240906T075322Z
LAST-MODIFIED:20240906T075322Z
DTSTART;VALUE=DATE:20250515
DTEND;VALUE=DATE:20250518
SUMMARY: How and Why Do Double Standards Matter for International Law? (Wor
 kshop)
DESCRIPTION: 15.-17.5.2025 / Genf (Einreichungsfrist: 15.10.2024) https://h
 ls.harvard.edu/wp-content/uploads/2024/09/Geneva_Double_Standards_CfP.pdf
X-ALT-DESC;FMTTYPE=text/html: <p>15.-17.5.2025 / Genf <strong>(Einreichungs
 frist: 15.10.2024)</strong></p><p><a href="https://hls.harvard.edu/wp-conte
 nt/uploads/2024/09/Geneva_Double_Standards_CfP.pdf">https://hls.harvard.edu
 /wp-content/uploads/2024/09/Geneva_Double_Standards_CfP.pdf</a></p><p>[av_b
 utton label='iCal-Export' link='./feed/eo-events' link_target='' size='smal
 l' position='center' label_display='' title_attr='' icon_select='yes' icon=
 'ue85b' font='entypo-fontello' color='custom' custom_bg='#b5123e' custom_fo
 nt='#ffffff' av_uid='' id='' custom_class='' admin_preview_bg='']</p>
CATEGORIES:Europäisches / Internationales Recht
LOCATION:Ausland
GEO:0.000000;0.000000
ORGANIZER;CN="ViFa-Recht":MAILTO:vifa-recht@sbb.spk-berlin.de
URL;VALUE=URI:https://events.intrecht.de/termine/termin/how-and-why-do-doub
 le-standards-matter-for-international-law-workshop/
END:VEVENT
BEGIN:VTIMEZONE
TZID:Europe/Berlin
BEGIN:DAYLIGHT
TZOFFSETFROM:+0100
TZOFFSETTO:+0200
DTSTART:20250330T010000
TZNAME:CEST
END:DAYLIGHT
END:VTIMEZONE
END:VCALENDAR
