BEGIN:VCALENDAR
VERSION:2.0
PRODID:-//Events | FID-Recht//NONSGML Events//EN
CALSCALE:GREGORIAN
X-ORIGINAL-URL:https://events.intrecht.de/termine/
X-WR-CALDESC:Events | FID-Recht - Events
BEGIN:VEVENT
UID:20200603T1418Z-1591193923.3362-EO-587-1@172.16.200.141
STATUS:CONFIRMED
DTSTAMP:20260422T211822Z
CREATED:20240809T074313Z
LAST-MODIFIED:20240809T074313Z
DTSTART;VALUE=DATE:20240925
DTEND;VALUE=DATE:20240926
SUMMARY: Hopes and Fears for International Law: the work of the Internation
 al Court of Justice (Opening Lecture 2024 / Geneva Graduate Institute)
DESCRIPTION: 25.9.2024 / Genf https://www.graduateinstitute.ch/communicatio
 ns/events/hopes-and-fears-international-law-work-international-court-justic
 e
X-ALT-DESC;FMTTYPE=text/html: <p>25.9.2024 / Genf</p><p><a href="https://ww
 w.graduateinstitute.ch/communications/events/hopes-and-fears-international-
 law-work-international-court-justice">https://www.graduateinstitute.ch/comm
 unications/events/hopes-and-fears-international-law-work-international-cour
 t-justice</a></p><p>[av_button label='iCal-Export' link='./feed/eo-events' 
 link_target='' size='small' position='center' label_display='' title_attr='
 ' icon_select='yes' icon='ue85b' font='entypo-fontello' color='custom' cust
 om_bg='#b5123e' custom_font='#ffffff' av_uid='' id='' custom_class='' admin
 _preview_bg='']</p>
CATEGORIES:Europäisches / Internationales Recht
LOCATION:Ausland
GEO:0.000000;0.000000
ORGANIZER;CN="ViFa-Recht":MAILTO:vifa-recht@sbb.spk-berlin.de
URL;VALUE=URI:https://events.intrecht.de/termine/termin/hopes-and-fears-for
 -international-law-the-work-of-the-international-court-of-justice-opening-l
 ecture-2024-geneva-graduate-institute/
END:VEVENT
BEGIN:VTIMEZONE
TZID:Europe/Berlin
BEGIN:DAYLIGHT
TZOFFSETFROM:+0100
TZOFFSETTO:+0200
DTSTART:20240331T010000
TZNAME:CEST
END:DAYLIGHT
END:VTIMEZONE
END:VCALENDAR
