BEGIN:VCALENDAR
VERSION:2.0
PRODID:-//Events | FID-Recht//NONSGML Events//EN
CALSCALE:GREGORIAN
X-ORIGINAL-URL:https://events.intrecht.de/termine/
X-WR-CALDESC:Events | FID-Recht - Events
BEGIN:VEVENT
UID:20200603T1418Z-1591193923.3362-EO-587-1@172.16.200.141
STATUS:CONFIRMED
DTSTAMP:20260425T201048Z
CREATED:20230307T152434Z
LAST-MODIFIED:20230307T152434Z
DTSTART;VALUE=DATE:20230316
DTEND;VALUE=DATE:20230317
SUMMARY: Hope in the Climate Crisis (Öffentliche Veranstaltung)
DESCRIPTION: 16.3.2023 / Berlin https://www.hertie-school.org/en/events/eve
 nt-detail/event/hope-in-the-climate-crisis
X-ALT-DESC;FMTTYPE=text/html: <p>16.3.2023 / Berlin</p><p><a href="https://
 www.hertie-school.org/en/events/event-detail/event/hope-in-the-climate-cris
 is">https://www.hertie-school.org/en/events/event-detail/event/hope-in-the-
 climate-crisis</a></p><p>[av_button label='iCal-Export' link='./feed/eo-eve
 nts' link_target='' size='small' position='center' label_display='' title_a
 ttr='' icon_select='yes' icon='ue85b' font='entypo-fontello' color='custom'
  custom_bg='#b5123e' custom_font='#ffffff' av_uid='' id='' custom_class='' 
 admin_preview_bg='']</p>
CATEGORIES:Recht interdisziplinär
LOCATION:Inland
GEO:0.000000;0.000000
ORGANIZER;CN="ViFa-Recht":MAILTO:vifa-recht@sbb.spk-berlin.de
URL;VALUE=URI:https://events.intrecht.de/termine/termin/hope-in-the-climate
 -crisis-oeffentliche-veranstaltung/
END:VEVENT
BEGIN:VTIMEZONE
TZID:Europe/Berlin
BEGIN:STANDARD
TZOFFSETFROM:+0200
TZOFFSETTO:+0100
DTSTART:20221030T010000
TZNAME:CET
END:STANDARD
END:VTIMEZONE
END:VCALENDAR
