BEGIN:VCALENDAR
VERSION:2.0
PRODID:-//Events | FID-Recht//NONSGML Events//EN
CALSCALE:GREGORIAN
X-ORIGINAL-URL:https://events.intrecht.de/termine/
X-WR-CALDESC:Events | FID-Recht - Events
BEGIN:VEVENT
UID:20220626T0807Z-1656230868.1441-EO-4290-1@172.16.200.151
STATUS:CONFIRMED
DTSTAMP:20260421T102538Z
CREATED:20220623T141233Z
LAST-MODIFIED:20220623T141233Z
DTSTART;VALUE=DATE:20220719
DTEND;VALUE=DATE:20220719
SUMMARY: History of property (IberLAND Research Colloquium) (Online-Worksho
 p)
DESCRIPTION: 19.7.2022\, Online IberLAND Research Colloquium | Max Planck I
 nstitute for Legal History and Legal Theory (mpg.de)  
X-ALT-DESC;FMTTYPE=text/html: <p>19.7.2022\, Online</p><p><a href="https://
 www.lhlt.mpg.de/events/30759/2078412">IberLAND Research Colloquium | Max Pl
 anck Institute for Legal History and Legal Theory (mpg.de)</a></p><p> </p><
 p>[av_button label='iCal-Export' link='./feed/eo-events' link_target='' siz
 e='small' position='center' label_display='' title_attr='' icon_select='yes
 ' icon='ue85b' font='entypo-fontello' color='custom' custom_bg='#b5123e' cu
 stom_font='#ffffff' av_uid='' id='' custom_class='' admin_preview_bg='']</p
 >
CATEGORIES:Recht interdisziplinär,Zivilrecht
LOCATION:Online
GEO:0.000000;0.000000
ORGANIZER;CN="ViFa-Recht":MAILTO:vifa-recht@sbb.spk-berlin.de
URL;VALUE=URI:https://events.intrecht.de/termine/termin/history-of-property
 -iberland-research-colloquium-online-workshop/
END:VEVENT
BEGIN:VTIMEZONE
TZID:Europe/Berlin
BEGIN:DAYLIGHT
TZOFFSETFROM:+0100
TZOFFSETTO:+0200
DTSTART:20220327T010000
TZNAME:CEST
END:DAYLIGHT
END:VTIMEZONE
END:VCALENDAR
