BEGIN:VCALENDAR
VERSION:2.0
PRODID:-//Events | FID-Recht//NONSGML Events//EN
CALSCALE:GREGORIAN
X-ORIGINAL-URL:https://events.intrecht.de/termine/
X-WR-CALDESC:Events | FID-Recht - Events
BEGIN:VEVENT
UID:20210731T0942Z-1627724558.2656-EO-4320-1@172.16.200.141
STATUS:CONFIRMED
DTSTAMP:20260422T143246Z
CREATED:20210730T182650Z
LAST-MODIFIED:20210812T124353Z
DTSTART;VALUE=DATE:20220720
DTEND;VALUE=DATE:20220723
SUMMARY: History of Insurance in Global Perspective (Konferenz)
DESCRIPTION: 20.-22.7.2022\, Basel (Frist für Einreichungen von Vorschlägen
  für Sessions: 30.9.2021) https://forhistiur.net/news/2021-03-29-call-for-s
 essions-international-conference-on-history-of-insurance-in-global-perspect
 ive/ Home | History of Insurance in a Global Perspective (unibas.ch)  
X-ALT-DESC;FMTTYPE=text/html: <p>20.-22.7.2022\, Basel (Frist für Einreichu
 ngen von Vorschlägen für Sessions: 30.9.2021)</p><p><a href="https://forhis
 tiur.net/news/2021-03-29-call-for-sessions-international-conference-on-hist
 ory-of-insurance-in-global-perspective/">https://forhistiur.net/news/2021-0
 3-29-call-for-sessions-international-conference-on-history-of-insurance-in-
 global-perspective/</a></p><p><a href="https://history-of-insurance.dg.unib
 as.ch/en/">Home | History of Insurance in a Global Perspective (unibas.ch)<
 /a></p><p> </p><p>[av_button label='iCal-Export' link='./feed/eo-events' li
 nk_target='' size='small' position='center' label_display='' title_attr='' 
 icon_select='yes' icon='ue85b' font='entypo-fontello' color='custom' custom
 _bg='#b5123e' custom_font='#ffffff' av_uid='' id='' custom_class='' admin_p
 review_bg='']</p>
CATEGORIES:Recht interdisziplinär
LOCATION:Ausland
GEO:0.000000;0.000000
ORGANIZER;CN="ViFa-Recht":MAILTO:vifa-recht@sbb.spk-berlin.de
URL;VALUE=URI:https://events.intrecht.de/termine/termin/history-of-insuranc
 e-in-global-perspective-konferenz-cfp/
END:VEVENT
BEGIN:VTIMEZONE
TZID:Europe/Berlin
BEGIN:DAYLIGHT
TZOFFSETFROM:+0100
TZOFFSETTO:+0200
DTSTART:20220327T010000
TZNAME:CEST
END:DAYLIGHT
END:VTIMEZONE
END:VCALENDAR
