BEGIN:VCALENDAR
VERSION:2.0
PRODID:-//Events | FID-Recht//NONSGML Events//EN
CALSCALE:GREGORIAN
X-ORIGINAL-URL:https://events.intrecht.de/termine/
X-WR-CALDESC:Events | FID-Recht - Events
BEGIN:VEVENT
UID:20211117T2041Z-1637181665.5594-EO-5130-1@172.16.200.141
STATUS:CONFIRMED
DTSTAMP:20260421T102923Z
CREATED:20211116T224938Z
LAST-MODIFIED:20211116T224938Z
DTSTART;VALUE=DATE:20211103
DTEND;VALUE=DATE:20211104
SUMMARY: Historische Soziologie. „War made the state\, and the state made w
 ar.“ Organisierte Kollektivgewalt und der moderne Staat (mit Heiko Brendel)
  / Staatliche Genehmigungen und Kriegsverbrechen (mit Milan Kuhli) (Online-
 Vorträge)
DESCRIPTION: 3.11.2021\, Online Passauer 10 Minuten zum Thema Gewalt • Univ
 ersität Passau (uni-passau.de)  
X-ALT-DESC;FMTTYPE=text/html: <p>3.11.2021\, Online</p><p><a href="https://
 www.phil.uni-passau.de/10minuten-wise21/">Passauer 10 Minuten zum Thema Gew
 alt • Universität Passau (uni-passau.de)</a></p><p> </p><p>[av_button label
 ='iCal-Export' link='./feed/eo-events' link_target='' size='small' position
 ='center' label_display='' title_attr='' icon_select='yes' icon='ue85b' fon
 t='entypo-fontello' color='custom' custom_bg='#b5123e' custom_font='#ffffff
 ' av_uid='' id='' custom_class='' admin_preview_bg='']</p>
CATEGORIES:Recht interdisziplinär
LOCATION:Online
GEO:0.000000;0.000000
ORGANIZER;CN="ViFa-Recht":MAILTO:vifa-recht@sbb.spk-berlin.de
URL;VALUE=URI:https://events.intrecht.de/termine/termin/historische-soziolo
 gie-war-made-the-state-and-the-state-made-war-organisierte-kollektivgewalt-
 und-der-moderne-staat-mit-heiko-brendel-staatliche-genehmigungen-und-kriegs
 verbre/
END:VEVENT
BEGIN:VTIMEZONE
TZID:Europe/Berlin
BEGIN:STANDARD
TZOFFSETFROM:+0200
TZOFFSETTO:+0100
DTSTART:20211031T010000
TZNAME:CET
END:STANDARD
END:VTIMEZONE
END:VCALENDAR
