BEGIN:VCALENDAR
VERSION:2.0
PRODID:-//Events | FID-Recht//NONSGML Events//EN
CALSCALE:GREGORIAN
X-ORIGINAL-URL:https://events.intrecht.de/termine/
X-WR-CALDESC:Events | FID-Recht - Events
BEGIN:VEVENT
UID:20200603T1418Z-1591193923.3362-EO-587-1@172.16.200.141
STATUS:CONFIRMED
DTSTAMP:20260422T071930Z
CREATED:20231212T164448Z
LAST-MODIFIED:20231212T164448Z
DTSTART;VALUE=DATE:20240124
DTEND;VALUE=DATE:20240125
SUMMARY: Histories of the Law of Political Economy (Max Planck Lecture in L
 egal History and Legal Theory)
DESCRIPTION: 24.1.2024 / Online und Frankfurt am Main https://www.lhlt.mpg.
 de/events/35760/2077701
X-ALT-DESC;FMTTYPE=text/html: <p>24.1.2024 / Online und Frankfurt am Main</
 p><p><a href="https://www.lhlt.mpg.de/events/35760/2077701">https://www.lhl
 t.mpg.de/events/35760/2077701</a></p><p>[av_button label='iCal-Export' link
 ='./feed/eo-events' link_target='' size='small' position='center' label_dis
 play='' title_attr='' icon_select='yes' icon='ue85b' font='entypo-fontello'
  color='custom' custom_bg='#b5123e' custom_font='#ffffff' av_uid='' id='' c
 ustom_class='' admin_preview_bg='']</p>
CATEGORIES:Recht interdisziplinär
LOCATION:Online
GEO:0.000000;0.000000
ORGANIZER;CN="ViFa-Recht":MAILTO:vifa-recht@sbb.spk-berlin.de
URL;VALUE=URI:https://events.intrecht.de/termine/termin/histories-of-the-la
 w-of-political-economy-max-planck-lecture-in-legal-history-and-legal-theory
 /
END:VEVENT
BEGIN:VTIMEZONE
TZID:Europe/Berlin
BEGIN:STANDARD
TZOFFSETFROM:+0200
TZOFFSETTO:+0100
DTSTART:20231029T010000
TZNAME:CET
END:STANDARD
END:VTIMEZONE
END:VCALENDAR
