BEGIN:VCALENDAR
VERSION:2.0
PRODID:-//Events | FID-Recht//NONSGML Events//EN
CALSCALE:GREGORIAN
X-ORIGINAL-URL:https://events.intrecht.de/termine/
X-WR-CALDESC:Events | FID-Recht - Events
BEGIN:VEVENT
UID:20200603T1418Z-1591193923.3362-EO-587-1@172.16.200.141
STATUS:CONFIRMED
DTSTAMP:20260425T151003Z
CREATED:20230808T103801Z
LAST-MODIFIED:20230808T103801Z
DTSTART;VALUE=DATE:20240626
DTEND;VALUE=DATE:20240628
SUMMARY: Historicising Jurisprudence: Person\, Community\, Form (Conference
 )
DESCRIPTION: 26.-27.6.2024 / London (Frist für Einreichungen: 4.12.2023) ht
 tps://ials.sas.ac.uk/sites/default/files/institute_advanced_legal_studies/H
 istoricising-Jurisprudence-WG-Hart-2024-Call-for-Papers.pdf
X-ALT-DESC;FMTTYPE=text/html: <p>26.-27.6.2024 / London <strong>(Frist für 
 Einreichungen: 4.12.2023)</strong></p><p><a href="https://ials.sas.ac.uk/si
 tes/default/files/institute_advanced_legal_studies/Historicising-Jurisprude
 nce-WG-Hart-2024-Call-for-Papers.pdf">https://ials.sas.ac.uk/sites/default/
 files/institute_advanced_legal_studies/Historicising-Jurisprudence-WG-Hart-
 2024-Call-for-Papers.pdf</a></p><p>[av_button label='iCal-Export' link='./f
 eed/eo-events' link_target='' size='small' position='center' label_display=
 '' title_attr='' icon_select='yes' icon='ue85b' font='entypo-fontello' colo
 r='custom' custom_bg='#b5123e' custom_font='#ffffff' av_uid='' id='' custom
 _class='' admin_preview_bg='']</p>
CATEGORIES:Recht interdisziplinär
LOCATION:Ausland
GEO:0.000000;0.000000
ORGANIZER;CN="ViFa-Recht":MAILTO:vifa-recht@sbb.spk-berlin.de
URL;VALUE=URI:https://events.intrecht.de/termine/termin/historicising-juris
 prudence-person-community-form-conference/
END:VEVENT
BEGIN:VTIMEZONE
TZID:Europe/Berlin
BEGIN:DAYLIGHT
TZOFFSETFROM:+0100
TZOFFSETTO:+0200
DTSTART:20240331T010000
TZNAME:CEST
END:DAYLIGHT
END:VTIMEZONE
END:VCALENDAR
