BEGIN:VCALENDAR
VERSION:2.0
PRODID:-//Events | FID-Recht//NONSGML Events//EN
CALSCALE:GREGORIAN
X-ORIGINAL-URL:https://events.intrecht.de/termine/
X-WR-CALDESC:Events | FID-Recht - Events
BEGIN:VEVENT
UID:20200603T1418Z-1591193923.3362-EO-587-1@172.16.200.141
STATUS:CONFIRMED
DTSTAMP:20260425T201911Z
CREATED:20230302T062118Z
LAST-MODIFIED:20230302T062118Z
DTSTART;VALUE=DATE:20230327
DTEND;VALUE=DATE:20230328
SUMMARY: Hilary Charlesworth: A Conversation with a Judge of the ICJ
DESCRIPTION: 27.3.2023 / Online (Anmeldefrist: 24.3.2023) https://law.mpg.d
 e/event/hilary-charlesworth-a-conversation-with-a-judge-of-the-icj/
X-ALT-DESC;FMTTYPE=text/html: <p>27.3.2023 / Online <strong>(Anmeldefrist: 
 24.3.2023)</strong></p><p><a href="https://law.mpg.de/event/hilary-charlesw
 orth-a-conversation-with-a-judge-of-the-icj/">https://law.mpg.de/event/hila
 ry-charlesworth-a-conversation-with-a-judge-of-the-icj/</a></p><p>[av_butto
 n label='iCal-Export' link='./feed/eo-events' link_target='' size='small' p
 osition='center' label_display='' title_attr='' icon_select='yes' icon='ue8
 5b' font='entypo-fontello' color='custom' custom_bg='#b5123e' custom_font='
 #ffffff' av_uid='' id='' custom_class='' admin_preview_bg='']</p>
CATEGORIES:Europäisches / Internationales Recht
LOCATION:Online
GEO:0.000000;0.000000
ORGANIZER;CN="ViFa-Recht":MAILTO:vifa-recht@sbb.spk-berlin.de
URL;VALUE=URI:https://events.intrecht.de/termine/termin/hilary-charlesworth
 -a-conversation-with-a-judge-of-the-icj/
END:VEVENT
BEGIN:VTIMEZONE
TZID:Europe/Berlin
BEGIN:STANDARD
TZOFFSETFROM:+0200
TZOFFSETTO:+0100
DTSTART:20221030T010000
TZNAME:CET
END:STANDARD
BEGIN:DAYLIGHT
TZOFFSETFROM:+0100
TZOFFSETTO:+0200
DTSTART:20230326T010000
TZNAME:CEST
END:DAYLIGHT
END:VTIMEZONE
END:VCALENDAR
