BEGIN:VCALENDAR
VERSION:2.0
PRODID:-//Events | FID-Recht//NONSGML Events//EN
CALSCALE:GREGORIAN
X-ORIGINAL-URL:https://events.intrecht.de/termine/
X-WR-CALDESC:Events | FID-Recht - Events
BEGIN:VEVENT
UID:20210314T1750Z-1615744258.148-EO-3508-1@172.16.200.141
STATUS:CONFIRMED
DTSTAMP:20260421T151950Z
CREATED:20210311T162918Z
LAST-MODIFIED:20210311T162918Z
DTSTART;VALUE=DATE:20210312
DTEND;VALUE=DATE:20210312
SUMMARY: Hermann-Mosler-Preis an Dr. Maria Monnheimer und Gerhard-Kegel-Pre
 is an Dr. Adrian Hemler (Online-Preisverleihung)
DESCRIPTION:  12.3.2021\, Online https://voelkerrechtsblog.org/de/events/ve
 rleihung-der-dissertationspreise-der-gesellschaft-2020-2021/  
X-ALT-DESC;FMTTYPE=text/html: <p><strong> </strong>12.3.2021\, Online</p><p
 ><a href="https://voelkerrechtsblog.org/de/events/verleihung-der-dissertati
 onspreise-der-gesellschaft-2020-2021/">https://voelkerrechtsblog.org/de/eve
 nts/verleihung-der-dissertationspreise-der-gesellschaft-2020-2021/</a></p><
 p> </p><p>[av_button label='iCal-Export' link='./feed/eo-events' link_targe
 t='' size='small' position='center' label_display='' title_attr='' icon_sel
 ect='yes' icon='ue85b' font='entypo-fontello' color='custom' custom_bg='#b5
 123e' custom_font='#ffffff' av_uid='' id='' custom_class='' admin_preview_b
 g='']</p>
CATEGORIES:Europäisches / Internationales Recht
LOCATION:Online
GEO:0.000000;0.000000
ORGANIZER;CN="ViFa-Recht":MAILTO:vifa-recht@sbb.spk-berlin.de
URL;VALUE=URI:https://events.intrecht.de/termine/termin/hermann-mosler-prei
 s-an-dr-maria-monnheimer-und-gerhard-kegel-preis-an-dr-adrian-hemler-online
 -preisverleihung/
END:VEVENT
BEGIN:VTIMEZONE
TZID:Europe/Berlin
BEGIN:STANDARD
TZOFFSETFROM:+0200
TZOFFSETTO:+0100
DTSTART:20201025T010000
TZNAME:CET
END:STANDARD
END:VTIMEZONE
END:VCALENDAR
