BEGIN:VCALENDAR
VERSION:2.0
PRODID:-//Events | FID-Recht//NONSGML Events//EN
CALSCALE:GREGORIAN
X-ORIGINAL-URL:https://events.intrecht.de/termine/
X-WR-CALDESC:Events | FID-Recht - Events
BEGIN:VEVENT
UID:20200603T1418Z-1591193923.3362-EO-587-1@172.16.200.141
STATUS:CONFIRMED
DTSTAMP:20260423T055027Z
CREATED:20240708T092849Z
LAST-MODIFIED:20240708T092849Z
DTSTART;VALUE=DATE:20241205
DTEND;VALUE=DATE:20241207
SUMMARY: Heritage in War and Peace IV – Human Rights Perspectives through P
 ast\, Present and Future (Conference)
DESCRIPTION: 5.-6.12.2024 / Glasgow (Einreichungsfrist: 22.8.2024) https://
 www.strath.ac.uk/media/1newwebsite/departmentsubject/law/documents/Call_for
 _Papers_Full.pdf
X-ALT-DESC;FMTTYPE=text/html: <p>5.-6.12.2024 / Glasgow <strong>(Einreichun
 gsfrist: 22.8.2024)</strong></p><p><a href="https://www.strath.ac.uk/media/
 1newwebsite/departmentsubject/law/documents/Call_for_Papers_Full.pdf">https
 ://www.strath.ac.uk/media/1newwebsite/departmentsubject/law/documents/Call_
 for_Papers_Full.pdf</a></p><p>[av_button label='iCal-Export' link='./feed/e
 o-events' link_target='' size='small' position='center' label_display='' ti
 tle_attr='' icon_select='yes' icon='ue85b' font='entypo-fontello' color='cu
 stom' custom_bg='#b5123e' custom_font='#ffffff' av_uid='' id='' custom_clas
 s='' admin_preview_bg='']</p>
CATEGORIES:Recht interdisziplinär
LOCATION:Ausland
GEO:0.000000;0.000000
ORGANIZER;CN="ViFa-Recht":MAILTO:vifa-recht@sbb.spk-berlin.de
URL;VALUE=URI:https://events.intrecht.de/termine/termin/heritage-in-war-and
 -peace-iv-human-rights-perspectives-through-past-present-and-future-confere
 nce/
END:VEVENT
BEGIN:VTIMEZONE
TZID:Europe/Berlin
BEGIN:STANDARD
TZOFFSETFROM:+0200
TZOFFSETTO:+0100
DTSTART:20241027T010000
TZNAME:CET
END:STANDARD
END:VTIMEZONE
END:VCALENDAR
