BEGIN:VCALENDAR
VERSION:2.0
PRODID:-//Events | FID-Recht//NONSGML Events//EN
CALSCALE:GREGORIAN
X-ORIGINAL-URL:https://events.intrecht.de/termine/
X-WR-CALDESC:Events | FID-Recht - Events
BEGIN:VEVENT
UID:20220908T1853Z-1662663200.7291-EO-5569-1@172.16.200.151
STATUS:CONFIRMED
DTSTAMP:20260421T201052Z
CREATED:20220907T104037Z
LAST-MODIFIED:20220907T104037Z
DTSTART;VALUE=DATE:20221103
DTEND;VALUE=DATE:20221104
SUMMARY: Heritage in War and Peace II Spaces of Conflict\, Spaces of Justic
 e – Between Natural Landscapes and Cityscapes (Seminar)
DESCRIPTION: 3.11.2022\, Montréal https://www.legalscholars.ac.uk/event/sem
 inar-heritage-in-war-and-peace-ii-spaces-of-conflict-spaces-of-justice-betw
 een-natural-landscapes-and-cityscapes/  
X-ALT-DESC;FMTTYPE=text/html: <p>3.11.2022\, Montréal</p><p><a href="https:
 //www.legalscholars.ac.uk/event/seminar-heritage-in-war-and-peace-ii-spaces
 -of-conflict-spaces-of-justice-between-natural-landscapes-and-cityscapes/">
 https://www.legalscholars.ac.uk/event/seminar-heritage-in-war-and-peace-ii-
 spaces-of-conflict-spaces-of-justice-between-natural-landscapes-and-citysca
 pes/</a></p><p> </p><p>[av_button label='iCal-Export' link='./feed/eo-event
 s' link_target='' size='small' position='center' label_display='' title_att
 r='' icon_select='yes' icon='ue85b' font='entypo-fontello' color='custom' c
 ustom_bg='#b5123e' custom_font='#ffffff' av_uid='' id='' custom_class='' ad
 min_preview_bg='']</p>
CATEGORIES:Recht interdisziplinär
LOCATION:Ausland
GEO:0.000000;0.000000
ORGANIZER;CN="ViFa-Recht":MAILTO:vifa-recht@sbb.spk-berlin.de
URL;VALUE=URI:https://events.intrecht.de/termine/termin/heritage-in-war-and
 -peace-ii-spaces-of-conflict-spaces-of-justice-between-natural-landscapes-a
 nd-cityscapes-seminar/
END:VEVENT
BEGIN:VTIMEZONE
TZID:Europe/Berlin
BEGIN:STANDARD
TZOFFSETFROM:+0200
TZOFFSETTO:+0100
DTSTART:20221030T010000
TZNAME:CET
END:STANDARD
END:VTIMEZONE
END:VCALENDAR
