BEGIN:VCALENDAR
VERSION:2.0
PRODID:-//Events | FID-Recht//NONSGML Events//EN
CALSCALE:GREGORIAN
X-ORIGINAL-URL:https://events.intrecht.de/termine/
X-WR-CALDESC:Events | FID-Recht - Events
BEGIN:VEVENT
UID:20200603T1418Z-1591193923.3362-EO-587-1@172.16.200.141
STATUS:CONFIRMED
DTSTAMP:20260422T225148Z
CREATED:20241002T153956Z
LAST-MODIFIED:20241002T153956Z
DTSTART;VALUE=DATE:20241128
DTEND;VALUE=DATE:20241130
SUMMARY: Herbsttagung der Arbeitsgemeinschaft für juristisches Bibliotheks-
  und Dokumentationswesen (AjBD)
DESCRIPTION: 28.-29.11.2024 / Göttingen https://www.ajbd.de/events/herbstta
 gung-der-ajbd-goettingen-28-29-11-2024/
X-ALT-DESC;FMTTYPE=text/html: <p>28.-29.11.2024 / Göttingen</p><p><a href="
 https://www.ajbd.de/events/herbsttagung-der-ajbd-goettingen-28-29-11-2024/"
 >https://www.ajbd.de/events/herbsttagung-der-ajbd-goettingen-28-29-11-2024/
 </a></p><p>[av_button label='iCal-Export' link='./feed/eo-events' link_targ
 et='' size='small' position='center' label_display='' title_attr='' icon_se
 lect='yes' icon='ue85b' font='entypo-fontello' color='custom' custom_bg='#b
 5123e' custom_font='#ffffff' av_uid='' id='' custom_class='' admin_preview_
 bg='']</p>
CATEGORIES:Recht interdisziplinär
LOCATION:Inland
GEO:0.000000;0.000000
ORGANIZER;CN="ViFa-Recht":MAILTO:vifa-recht@sbb.spk-berlin.de
URL;VALUE=URI:https://events.intrecht.de/termine/termin/herbsttagung-der-ar
 beitsgemeinschaft-fuer-juristisches-bibliotheks-und-dokumentationswesen-ajb
 d/
END:VEVENT
BEGIN:VTIMEZONE
TZID:Europe/Berlin
BEGIN:STANDARD
TZOFFSETFROM:+0200
TZOFFSETTO:+0100
DTSTART:20241027T010000
TZNAME:CET
END:STANDARD
END:VTIMEZONE
END:VCALENDAR
