BEGIN:VCALENDAR
VERSION:2.0
PRODID:-//Events | FID-Recht//NONSGML Events//EN
CALSCALE:GREGORIAN
X-ORIGINAL-URL:https://events.intrecht.de/termine/
X-WR-CALDESC:Events | FID-Recht - Events
BEGIN:VEVENT
UID:20200603T1418Z-1591193923.3362-EO-587-1@172.16.200.141
STATUS:CONFIRMED
DTSTAMP:20260425T164953Z
CREATED:20231101T160741Z
LAST-MODIFIED:20231101T160741Z
DTSTART;VALUE=DATE:20231107
DTEND;VALUE=DATE:20231108
SUMMARY: Herausforderungen der Prozessrechtsdigitalisierung aus rechtsvergl
 eichender Perspektive (Göttinger Kolloquien zur Digitalisierung des Zivilve
 rfahrensrechts)
DESCRIPTION: 7.11.2023 / Online und Göttingen https://reusz.eu/veranstaltun
 gen/herausforderungen-der-prozessrechtsdigitalisierung-aus-rechtsvergleiche
 nder-perspektive
X-ALT-DESC;FMTTYPE=text/html: <p>7.11.2023 / Online und Göttingen</p><p><a 
 href="https://reusz.eu/veranstaltungen/herausforderungen-der-prozessrechtsd
 igitalisierung-aus-rechtsvergleichender-perspektive">https://reusz.eu/veran
 staltungen/herausforderungen-der-prozessrechtsdigitalisierung-aus-rechtsver
 gleichender-perspektive</a></p><p>[av_button label='iCal-Export' link='./fe
 ed/eo-events' link_target='' size='small' position='center' label_display='
 ' title_attr='' icon_select='yes' icon='ue85b' font='entypo-fontello' color
 ='custom' custom_bg='#b5123e' custom_font='#ffffff' av_uid='' id='' custom_
 class='' admin_preview_bg='']</p>
CATEGORIES:Zivilrecht
LOCATION:Online
GEO:0.000000;0.000000
ORGANIZER;CN="ViFa-Recht":MAILTO:vifa-recht@sbb.spk-berlin.de
URL;VALUE=URI:https://events.intrecht.de/termine/termin/herausforderungen-d
 er-prozessrechtsdigitalisierung-aus-rechtsvergleichender-perspektive-goetti
 nger-kolloquien-zur-digitalisierung-des-zivilverfahrensrechts/
END:VEVENT
BEGIN:VTIMEZONE
TZID:Europe/Berlin
BEGIN:STANDARD
TZOFFSETFROM:+0200
TZOFFSETTO:+0100
DTSTART:20231029T010000
TZNAME:CET
END:STANDARD
END:VTIMEZONE
END:VCALENDAR
