BEGIN:VCALENDAR
VERSION:2.0
PRODID:-//Events | FID-Recht//NONSGML Events//EN
CALSCALE:GREGORIAN
X-ORIGINAL-URL:https://events.intrecht.de/termine/
X-WR-CALDESC:Events | FID-Recht - Events
BEGIN:VEVENT
UID:20230418T0122Z-1681780964.8251-EO-8197-1@172.16.200.151
STATUS:CONFIRMED
DTSTAMP:20260426T031141Z
CREATED:20230130T112011Z
LAST-MODIFIED:20230130T112011Z
DTSTART;VALUE=DATE:20230330
DTEND;VALUE=DATE:20230331
SUMMARY: HeiParisMax-Tagung: Völker- und Europarecht im Wandel
DESCRIPTION: 30.3.2023 / Paris https://www.heiparismax.eu/de/aktuelles/vera
 nstaltungen/heiparismax-tagung-voelker-und-europarecht-im-wandel-30-03-2023
   
X-ALT-DESC;FMTTYPE=text/html: <p>30.3.2023 / Paris</p><p><a href="https://w
 ww.heiparismax.eu/de/aktuelles/veranstaltungen/heiparismax-tagung-voelker-u
 nd-europarecht-im-wandel-30-03-2023">https://www.heiparismax.eu/de/aktuelle
 s/veranstaltungen/heiparismax-tagung-voelker-und-europarecht-im-wandel-30-0
 3-2023</a></p><p> </p><p>[av_button label='iCal-Export' link='./feed/eo-eve
 nts' link_target='' size='small' position='center' label_display='' title_a
 ttr='' icon_select='yes' icon='ue85b' font='entypo-fontello' color='custom'
  custom_bg='#b5123e' custom_font='#ffffff' av_uid='' id='' custom_class='' 
 admin_preview_bg='']</p>
CATEGORIES:Europäisches / Internationales Recht
LOCATION:Ausland
GEO:0.000000;0.000000
ORGANIZER;CN="ViFa-Recht":MAILTO:vifa-recht@sbb.spk-berlin.de
URL;VALUE=URI:https://events.intrecht.de/termine/termin/heiparismax-tagung-
 voelker-und-europarecht-im-wandel/
END:VEVENT
BEGIN:VTIMEZONE
TZID:Europe/Berlin
BEGIN:DAYLIGHT
TZOFFSETFROM:+0100
TZOFFSETTO:+0200
DTSTART:20230326T010000
TZNAME:CEST
END:DAYLIGHT
END:VTIMEZONE
END:VCALENDAR
