BEGIN:VCALENDAR
VERSION:2.0
PRODID:-//Events | FID-Recht//NONSGML Events//EN
CALSCALE:GREGORIAN
X-ORIGINAL-URL:https://events.intrecht.de/termine/
X-WR-CALDESC:Events | FID-Recht - Events
BEGIN:VEVENT
UID:20210920T1219Z-1632140399.4509-EO-4638-1@172.16.200.141
STATUS:CONFIRMED
DTSTAMP:20260419T164104Z
CREATED:20210914T170748Z
LAST-MODIFIED:20210914T170748Z
DTSTART;VALUE=DATE:20210921
DTEND;VALUE=DATE:20210922
SUMMARY: Heidelberger Salon – Welt(un)ordnung und Internationales Recht (On
 line-Diskussion)
DESCRIPTION: 21.9.2021\, Online https://www.mpil.de/de/pub/aktuelles/verans
 taltungen.cfm?calendar.Display&cat=3&iDisplayID=7&event_ID=735&date=09/03/2
 021  
X-ALT-DESC;FMTTYPE=text/html: <p>21.9.2021\, Online<br /><a href="https://w
 ww.mpil.de/de/pub/aktuelles/veranstaltungen.cfm?calendar.Display&cat=3&iDis
 playID=7&event_ID=735&date=09/03/2021">https://www.mpil.de/de/pub/aktuelles
 /veranstaltungen.cfm?calendar.Display&cat=3&iDisplayID=7&event_ID=735&date=
 09/03/2021</a></p><p> </p><p>[av_button label='iCal-Export' link='./feed/eo
 -events' link_target='' size='small' position='center' label_display='' tit
 le_attr='' icon_select='yes' icon='ue85b' font='entypo-fontello' color='cus
 tom' custom_bg='#b5123e' custom_font='#ffffff' av_uid='' id='' custom_class
 ='' admin_preview_bg='']</p>
CATEGORIES:Europäisches / Internationales Recht
LOCATION:Online
GEO:0.000000;0.000000
ORGANIZER;CN="ViFa-Recht":MAILTO:vifa-recht@sbb.spk-berlin.de
URL;VALUE=URI:https://events.intrecht.de/termine/termin/heidelberger-salon-
 weltunordnung-und-internationales-recht-online-diskussion/
END:VEVENT
BEGIN:VTIMEZONE
TZID:Europe/Berlin
BEGIN:DAYLIGHT
TZOFFSETFROM:+0100
TZOFFSETTO:+0200
DTSTART:20210328T010000
TZNAME:CEST
END:DAYLIGHT
END:VTIMEZONE
END:VCALENDAR
