BEGIN:VCALENDAR
VERSION:2.0
PRODID:-//Events | FID-Recht//NONSGML Events//EN
CALSCALE:GREGORIAN
X-ORIGINAL-URL:https://events.intrecht.de/termine/
X-WR-CALDESC:Events | FID-Recht - Events
BEGIN:VEVENT
UID:20200819T1047Z-1597834024.7714-EO-1399-1@172.16.200.141
STATUS:CONFIRMED
DTSTAMP:20260422T143024Z
CREATED:20200814T174925Z
LAST-MODIFIED:20200814T174925Z
DTSTART;VALUE=DATE:20201027
DTEND;VALUE=DATE:20201027
SUMMARY: Heidelberger Salon – Deutsche Fragen: Völkerrecht und Verfassung i
 m Wendejahr 1989/90 (mit Jochen Abr. Frowein und Gregor Gysi) (Podiumsgespr
 äch)
DESCRIPTION: 27.10.2020\, Berlin/Online https://www.mpil.de/de/pub/aktuelle
 s/veranstaltungen.cfm?event=calendar.Display&cat=3&iDisplayID=7&event_ID=61
 0&date=07/30/2020  
X-ALT-DESC;FMTTYPE=text/html: <p>27.10.2020\, Berlin/Online</p><p><a href="
 https://www.mpil.de/de/pub/aktuelles/veranstaltungen.cfm?event=calendar.Dis
 play&cat=3&iDisplayID=7&event_ID=610&date=07/30/2020">https://www.mpil.de/d
 e/pub/aktuelles/veranstaltungen.cfm?event=calendar.Display&cat=3&iDisplayID
 =7&event_ID=610&date=07/30/2020</a></p><p> </p><p>[av_button label='iCal-Ex
 port' link='./feed/eo-events' link_target='' size='small' position='center'
  label_display='' title_attr='' icon_select='yes' icon='ue85b' font='entypo
 -fontello' color='custom' custom_bg='#b5123e' custom_font='#ffffff' av_uid=
 '' id='' custom_class='' admin_preview_bg='']</p>
CATEGORIES:Europäisches / Internationales Recht,Öffentliches Recht
LOCATION:Online
GEO:0.000000;0.000000
ORGANIZER;CN="ViFa-Recht":MAILTO:vifa-recht@sbb.spk-berlin.de
URL;VALUE=URI:https://events.intrecht.de/termine/termin/heidelberger-salon-
 deutsche-fragen-voelkerrecht-und-verfassung-im-wendejahr-1989-90-mit-jochen
 -abr-frowein-und-gregor-gysi-podiumsgespraech/
END:VEVENT
BEGIN:VTIMEZONE
TZID:Europe/Berlin
BEGIN:STANDARD
TZOFFSETFROM:+0200
TZOFFSETTO:+0100
DTSTART:20201025T010000
TZNAME:CET
END:STANDARD
END:VTIMEZONE
END:VCALENDAR
