BEGIN:VCALENDAR
VERSION:2.0
PRODID:-//Events | FID-Recht//NONSGML Events//EN
CALSCALE:GREGORIAN
X-ORIGINAL-URL:https://events.intrecht.de/termine/
X-WR-CALDESC:Events | FID-Recht - Events
BEGIN:VEVENT
UID:20200603T1418Z-1591193923.3362-EO-587-1@172.16.200.141
STATUS:CONFIRMED
DTSTAMP:20260426T043339Z
CREATED:20231115T121531Z
LAST-MODIFIED:20231115T121531Z
DTSTART;VALUE=DATE:20240118
DTEND;VALUE=DATE:20240119
SUMMARY: Hate speech and incitement: International criminal and humanitaria
 n law perspectives (Hague Initiative for Law and Armed Conflict (HILAC) Lec
 ture)
DESCRIPTION: 18.1.2024 / Den Haag https://www.asser.nl/education-events/eve
 nts/?id=4327
X-ALT-DESC;FMTTYPE=text/html: <p>18.1.2024 / Den Haag</p><p><a href="https:
 //www.asser.nl/education-events/events/?id=4327">https://www.asser.nl/educa
 tion-events/events/?id=4327</a></p><p>[av_button label='iCal-Export' link='
 ./feed/eo-events' link_target='' size='small' position='center' label_displ
 ay='' title_attr='' icon_select='yes' icon='ue85b' font='entypo-fontello' c
 olor='custom' custom_bg='#b5123e' custom_font='#ffffff' av_uid='' id='' cus
 tom_class='' admin_preview_bg='']</p>
CATEGORIES:Europäisches / Internationales Recht
LOCATION:Ausland
GEO:0.000000;0.000000
ORGANIZER;CN="ViFa-Recht":MAILTO:vifa-recht@sbb.spk-berlin.de
URL;VALUE=URI:https://events.intrecht.de/termine/termin/hate-speech-and-inc
 itement-international-criminal-and-humanitarian-law-perspectives-hague-init
 iative-for-law-and-armed-conflict-hilac-lecture/
END:VEVENT
BEGIN:VTIMEZONE
TZID:Europe/Berlin
BEGIN:STANDARD
TZOFFSETFROM:+0200
TZOFFSETTO:+0100
DTSTART:20231029T010000
TZNAME:CET
END:STANDARD
END:VTIMEZONE
END:VCALENDAR
