BEGIN:VCALENDAR
VERSION:2.0
PRODID:-//Events | FID-Recht//NONSGML Events//EN
CALSCALE:GREGORIAN
X-ORIGINAL-URL:https://events.intrecht.de/termine/
X-WR-CALDESC:Events | FID-Recht - Events
BEGIN:VEVENT
UID:20200603T1418Z-1591193923.3362-EO-587-1@172.16.200.141
STATUS:CONFIRMED
DTSTAMP:20260422T154448Z
CREATED:20240802T085844Z
LAST-MODIFIED:20240802T085844Z
DTSTART;VALUE=DATE:20240820
DTEND;VALUE=DATE:20240821
SUMMARY: Hate Speech Against Animals (Hybrid Event / Hamburg Forum on Compa
 rative Animal Law)
DESCRIPTION: 20.8.2024 / Online und Hamburg https://events.mpipriv.de/b?p=f
 orum_on_comparative_animal_law_with_saba_pipia
X-ALT-DESC;FMTTYPE=text/html: <p>20.8.2024 / Online und Hamburg</p><p><a hr
 ef="https://events.mpipriv.de/b?p=forum_on_comparative_animal_law_with_saba
 _pipia">https://events.mpipriv.de/b?p=forum_on_comparative_animal_law_with_
 saba_pipia</a></p><p>[av_button label='iCal-Export' link='./feed/eo-events'
  link_target='' size='small' position='center' label_display='' title_attr=
 '' icon_select='yes' icon='ue85b' font='entypo-fontello' color='custom' cus
 tom_bg='#b5123e' custom_font='#ffffff' av_uid='' id='' custom_class='' admi
 n_preview_bg='']</p>
CATEGORIES:Recht interdisziplinär
LOCATION:Hybrid
GEO:0.000000;0.000000
ORGANIZER;CN="ViFa-Recht":MAILTO:vifa-recht@sbb.spk-berlin.de
URL;VALUE=URI:https://events.intrecht.de/termine/termin/hate-speech-against
 -animals-hybrid-event-hamburg-forum-on-comparative-animal-law/
END:VEVENT
BEGIN:VTIMEZONE
TZID:Europe/Berlin
BEGIN:DAYLIGHT
TZOFFSETFROM:+0100
TZOFFSETTO:+0200
DTSTART:20240331T010000
TZNAME:CEST
END:DAYLIGHT
END:VTIMEZONE
END:VCALENDAR
