BEGIN:VCALENDAR
VERSION:2.0
PRODID:-//Events | FID-Recht//NONSGML Events//EN
CALSCALE:GREGORIAN
X-ORIGINAL-URL:https://events.intrecht.de/termine/
X-WR-CALDESC:Events | FID-Recht - Events
BEGIN:VEVENT
UID:20211118T0109Z-1637197763.5718-EO-5184-1@172.16.200.141
STATUS:CONFIRMED
DTSTAMP:20260421T102552Z
CREATED:20211117T000906Z
LAST-MODIFIED:20211117T000906Z
DTSTART;VALUE=DATE:20220409
DTEND;VALUE=DATE:20220411
SUMMARY: Hans Kelsen and the Pure Theory of Law (Nachwuchs-Workshop)
DESCRIPTION: 9.-10.4.2022\, Maria Lindenberg (Frist für Einreichungen: 30.1
 1.2021) Workshop on Kelsen and the Pure Theory of Law » 19–20 April 2022\, 
 Germany | IVR website and blog (wordpress.com)  
X-ALT-DESC;FMTTYPE=text/html: <p>9.-10.4.2022\, Maria Lindenberg (Frist für
  Einreichungen: 30.11.2021)</p><p><a href="https://ivronlineblog.wordpress.
 com/2021/08/10/workshop-on-kelsen-and-the-pure-theory-of-law-19-20-april-20
 22-germany/">Workshop on Kelsen and the Pure Theory of Law » 19–20 April 20
 22\, Germany | IVR website and blog (wordpress.com)</a></p><p> </p><p>[av_b
 utton label='iCal-Export' link='./feed/eo-events' link_target='' size='smal
 l' position='center' label_display='' title_attr='' icon_select='yes' icon=
 'ue85b' font='entypo-fontello' color='custom' custom_bg='#b5123e' custom_fo
 nt='#ffffff' av_uid='' id='' custom_class='' admin_preview_bg='']</p>
CATEGORIES:Recht interdisziplinär
LOCATION:Inland
GEO:0.000000;0.000000
ORGANIZER;CN="ViFa-Recht":MAILTO:vifa-recht@sbb.spk-berlin.de
URL;VALUE=URI:https://events.intrecht.de/termine/termin/hans-kelsen-and-the
 -pure-theory-of-law-nachwuchs-workshop-2/
END:VEVENT
BEGIN:VTIMEZONE
TZID:Europe/Berlin
BEGIN:DAYLIGHT
TZOFFSETFROM:+0100
TZOFFSETTO:+0200
DTSTART:20220327T010000
TZNAME:CEST
END:DAYLIGHT
END:VTIMEZONE
END:VCALENDAR
