BEGIN:VCALENDAR
VERSION:2.0
PRODID:-//Events | FID-Recht//NONSGML Events//EN
CALSCALE:GREGORIAN
X-ORIGINAL-URL:https://events.intrecht.de/termine/
X-WR-CALDESC:Events | FID-Recht - Events
BEGIN:VEVENT
UID:20201206T1955Z-1607284547.9662-EO-2627-1@172.16.200.141
STATUS:CONFIRMED
DTSTAMP:20260422T160627Z
CREATED:20201201T180422Z
LAST-MODIFIED:20201201T180422Z
DTSTART;VALUE=DATE:20201202
DTEND;VALUE=DATE:20201202
SUMMARY: Hans Hofmeyer – Ein Richter mit zwei Gesichtern. Der Erste Frankfu
 rter Auschwitz-Prozess und die nationalsozialistische Vergangenheit der deu
 tschen Justiz (mit Matias Ristic) (Online-Vortrag)
DESCRIPTION: 2.12.2020\, Online https://www.hsozkult.de/event/id/event-9448
 3\; digitaler Dies academicus 02.12.2020 — Universität Bonn (uni-bonn.de)  
X-ALT-DESC;FMTTYPE=text/html: <p>2.12.2020\, Online</p><p><a href="https://
 www.hsozkult.de/event/id/event-94483">https://www.hsozkult.de/event/id/even
 t-94483</a>\; <a href="https://www.uni-bonn.de/studium/studium-universale/d
 ies-academicus">digitaler Dies academicus 02.12.2020 — Universität Bonn (un
 i-bonn.de)</a></p><p> </p><p>[av_button label='iCal-Export' link='./feed/eo
 -events' link_target='' size='small' position='center' label_display='' tit
 le_attr='' icon_select='yes' icon='ue85b' font='entypo-fontello' color='cus
 tom' custom_bg='#b5123e' custom_font='#ffffff' av_uid='' id='' custom_class
 ='' admin_preview_bg='']</p>
CATEGORIES:Recht interdisziplinär
LOCATION:Online
GEO:0.000000;0.000000
ORGANIZER;CN="ViFa-Recht":MAILTO:vifa-recht@sbb.spk-berlin.de
URL;VALUE=URI:https://events.intrecht.de/termine/termin/hans-hofmeyer-ein-r
 ichter-mit-zwei-gesichtern-der-erste-frankfurter-auschwitz-prozess-und-die-
 nationalsozialistische-vergangenheit-der-deutschen-justiz-mit-matias-ristic
 -online-vortrag/
END:VEVENT
BEGIN:VTIMEZONE
TZID:Europe/Berlin
BEGIN:STANDARD
TZOFFSETFROM:+0200
TZOFFSETTO:+0100
DTSTART:20201025T010000
TZNAME:CET
END:STANDARD
END:VTIMEZONE
END:VCALENDAR
