BEGIN:VCALENDAR
VERSION:2.0
PRODID:-//Events | FID-Recht//NONSGML Events//EN
CALSCALE:GREGORIAN
X-ORIGINAL-URL:https://events.intrecht.de/termine/
X-WR-CALDESC:Events | FID-Recht - Events
BEGIN:VEVENT
UID:20200603T1418Z-1591193923.3362-EO-587-1@172.16.200.141
STATUS:CONFIRMED
DTSTAMP:20260426T031327Z
CREATED:20230611T140039Z
LAST-MODIFIED:20230611T140039Z
DTSTART;VALUE=DATE:20230613
DTEND;VALUE=DATE:20230614
SUMMARY: Hamburg Lecture Series on Korean Law: Focusing on the Rules on Int
 ernational Jurisdiction to Adjudicate Under the ‘Korean Private Internation
 al Law Act 2022’
DESCRIPTION: 13.6.2023 / Hamburg https://events.mpipriv.de/hamburg-lecture-
 series-on-korean-law-dr-li-yan
X-ALT-DESC;FMTTYPE=text/html: <p>13.6.2023 / Hamburg</p><p><a href="https:/
 /events.mpipriv.de/hamburg-lecture-series-on-korean-law-dr-li-yan">https://
 events.mpipriv.de/hamburg-lecture-series-on-korean-law-dr-li-yan</a></p><p>
 [av_button label='iCal-Export' link='./feed/eo-events' link_target='' size=
 'small' position='center' label_display='' title_attr='' icon_select='yes' 
 icon='ue85b' font='entypo-fontello' color='custom' custom_bg='#b5123e' cust
 om_font='#ffffff' av_uid='' id='' custom_class='' admin_preview_bg='']</p>
CATEGORIES:Zivilrecht
LOCATION:Inland
GEO:0.000000;0.000000
ORGANIZER;CN="ViFa-Recht":MAILTO:vifa-recht@sbb.spk-berlin.de
URL;VALUE=URI:https://events.intrecht.de/termine/termin/hamburg-lecture-ser
 ies-on-korean-law-focusing-on-the-rules-on-international-jurisdiction-to-ad
 judicate-under-the-korean-private-international-law-act-2022/
END:VEVENT
BEGIN:VTIMEZONE
TZID:Europe/Berlin
BEGIN:DAYLIGHT
TZOFFSETFROM:+0100
TZOFFSETTO:+0200
DTSTART:20230326T010000
TZNAME:CEST
END:DAYLIGHT
END:VTIMEZONE
END:VCALENDAR
