BEGIN:VCALENDAR
VERSION:2.0
PRODID:-//Events | FID-Recht//NONSGML Events//EN
CALSCALE:GREGORIAN
X-ORIGINAL-URL:https://events.intrecht.de/termine/
X-WR-CALDESC:Events | FID-Recht - Events
BEGIN:VEVENT
UID:20230324T1531Z-1679671896.805-EO-8125-1@172.16.200.151
STATUS:CONFIRMED
DTSTAMP:20260426T013256Z
CREATED:20230123T122550Z
LAST-MODIFIED:20230123T122550Z
DTSTART;VALUE=DATE:20230210
DTEND;VALUE=DATE:20230211
SUMMARY: Hamburg Lecture Series on Chinese Law: A Legal Innovation to Enhan
 ce Governance through Litigation: The Dual-Track Public Interest Litigation
  in China
DESCRIPTION: 10.2.2023 / Hamburg https://events.mpipriv.de/hamburg-lecture-
 series-on-chinese-law-ding-chunyan  
X-ALT-DESC;FMTTYPE=text/html: <p>10.2.2023 / Hamburg</p><p><a href="https:/
 /events.mpipriv.de/hamburg-lecture-series-on-chinese-law-ding-chunyan">http
 s://events.mpipriv.de/hamburg-lecture-series-on-chinese-law-ding-chunyan</a
 ></p><p> </p><p>[av_button label='iCal-Export' link='./feed/eo-events' link
 _target='' size='small' position='center' label_display='' title_attr='' ic
 on_select='yes' icon='ue85b' font='entypo-fontello' color='custom' custom_b
 g='#b5123e' custom_font='#ffffff' av_uid='' id='' custom_class='' admin_pre
 view_bg='']</p>
CATEGORIES:Zivilrecht
LOCATION:Inland
GEO:0.000000;0.000000
ORGANIZER;CN="ViFa-Recht":MAILTO:vifa-recht@sbb.spk-berlin.de
URL;VALUE=URI:https://events.intrecht.de/termine/termin/hamburg-lecture-ser
 ies-on-chinese-law-a-legal-innovation-to-enhance-governance-through-litigat
 ion-the-dual-track-public-interest-litigation-in-china/
END:VEVENT
BEGIN:VTIMEZONE
TZID:Europe/Berlin
BEGIN:STANDARD
TZOFFSETFROM:+0200
TZOFFSETTO:+0100
DTSTART:20221030T010000
TZNAME:CET
END:STANDARD
END:VTIMEZONE
END:VCALENDAR
