BEGIN:VCALENDAR
VERSION:2.0
PRODID:-//Events | FID-Recht//NONSGML Events//EN
CALSCALE:GREGORIAN
X-ORIGINAL-URL:https://events.intrecht.de/termine/
X-WR-CALDESC:Events | FID-Recht - Events
BEGIN:VEVENT
UID:20200603T1418Z-1591193923.3362-EO-587-1@172.16.200.141
STATUS:CONFIRMED
DTSTAMP:20260425T195403Z
CREATED:20230427T093110Z
LAST-MODIFIED:20230427T093110Z
DTSTART;VALUE=DATE:20230508
DTEND;VALUE=DATE:20230509
SUMMARY: Grundrechte und IPR nach der BVerfG-Entscheidung zum KinderEheBG (
 Online Panel)
DESCRIPTION: 8.5.2023 / Online (Anmeldefrist: 7.5.2023) https://events.mpip
 riv.de/grundrechte_und_ipr_kinderehe
X-ALT-DESC;FMTTYPE=text/html: <p>8.5.2023 / Online <strong>(Anmeldefrist: 7
 .5.2023)</strong></p><p><a href="https://events.mpipriv.de/grundrechte_und_
 ipr_kinderehe">https://events.mpipriv.de/grundrechte_und_ipr_kinderehe</a><
 /p><p>[av_button label='iCal-Export' link='./feed/eo-events' link_target=''
  size='small' position='center' label_display='' title_attr='' icon_select=
 'yes' icon='ue85b' font='entypo-fontello' color='custom' custom_bg='#b5123e
 ' custom_font='#ffffff' av_uid='' id='' custom_class='' admin_preview_bg=''
 ]</p>
CATEGORIES:Zivilrecht
LOCATION:Online
GEO:0.000000;0.000000
ORGANIZER;CN="ViFa-Recht":MAILTO:vifa-recht@sbb.spk-berlin.de
URL;VALUE=URI:https://events.intrecht.de/termine/termin/grundrechte-und-ipr
 -nach-der-bverfg-entscheidung-zum-kinderehebg-online-panel/
END:VEVENT
BEGIN:VTIMEZONE
TZID:Europe/Berlin
BEGIN:DAYLIGHT
TZOFFSETFROM:+0100
TZOFFSETTO:+0200
DTSTART:20230326T010000
TZNAME:CEST
END:DAYLIGHT
END:VTIMEZONE
END:VCALENDAR
