BEGIN:VCALENDAR
VERSION:2.0
PRODID:-//Events | FID-Recht//NONSGML Events//EN
CALSCALE:GREGORIAN
X-ORIGINAL-URL:https://events.intrecht.de/termine/
X-WR-CALDESC:Events | FID-Recht - Events
BEGIN:VEVENT
UID:20200603T1418Z-1591193923.3362-EO-587-1@172.16.200.141
STATUS:CONFIRMED
DTSTAMP:20260422T230302Z
CREATED:20240703T060634Z
LAST-MODIFIED:20240703T060634Z
DTSTART;VALUE=DATE:20241025
DTEND;VALUE=DATE:20241026
SUMMARY: Grundlagen der geschlechtlichen Selbstbestimmung (Workshop)
DESCRIPTION: 25.10.2024 / Erlangen (Einreichungsfrist: 31.7.2024) https://w
 ww.oer4.rw.fau.de/2024/06/26/grundlagen-der-geschlechtlichen-selbstbestimmu
 ng/
X-ALT-DESC;FMTTYPE=text/html: <p>25.10.2024 / Erlangen <strong>(Einreichung
 sfrist: 31.7.2024)</strong></p><p><a href="https://www.oer4.rw.fau.de/2024/
 06/26/grundlagen-der-geschlechtlichen-selbstbestimmung/">https://www.oer4.r
 w.fau.de/2024/06/26/grundlagen-der-geschlechtlichen-selbstbestimmung/</a></
 p><p>[av_button label='iCal-Export' link='./feed/eo-events' link_target='' 
 size='small' position='center' label_display='' title_attr='' icon_select='
 yes' icon='ue85b' font='entypo-fontello' color='custom' custom_bg='#b5123e'
  custom_font='#ffffff' av_uid='' id='' custom_class='' admin_preview_bg='']
 </p>
CATEGORIES:Recht interdisziplinär
LOCATION:Inland
GEO:0.000000;0.000000
ORGANIZER;CN="ViFa-Recht":MAILTO:vifa-recht@sbb.spk-berlin.de
URL;VALUE=URI:https://events.intrecht.de/termine/termin/grundlagen-der-gesc
 hlechtlichen-selbstbestimmung-workshop/
END:VEVENT
BEGIN:VTIMEZONE
TZID:Europe/Berlin
BEGIN:DAYLIGHT
TZOFFSETFROM:+0100
TZOFFSETTO:+0200
DTSTART:20240331T010000
TZNAME:CEST
END:DAYLIGHT
END:VTIMEZONE
END:VCALENDAR
