BEGIN:VCALENDAR
VERSION:2.0
PRODID:-//Events | FID-Recht//NONSGML Events//EN
CALSCALE:GREGORIAN
X-ORIGINAL-URL:https://events.intrecht.de/termine/
X-WR-CALDESC:Events | FID-Recht - Events
BEGIN:VEVENT
UID:20201023T0157Z-1603418254.6712-EO-1892-1@172.16.200.141
STATUS:CONFIRMED
DTSTAMP:20260421T152039Z
CREATED:20201012T185417Z
LAST-MODIFIED:20201021T115031Z
DTSTART;VALUE=DATE:20210520
DTEND;VALUE=DATE:20210522
SUMMARY: Groups and Spaces in International Economic Law – Focus on the BRI
 CS (organized by the Interest Group on International Economic Law) (Konfere
 nz)
DESCRIPTION: ursprünglicher Termin: 5.-6.6.2020\, St. Petersburg VERSCHOBEN
  AUF: 20.-21.5.2021 https://esil-sedi.eu/wp-content/uploads/2019/11/Call-fo
 r-Papers-ESIL-IEL-IG-St.-Petersburg-5-6-June-2020.pdf  
X-ALT-DESC;FMTTYPE=text/html: <p>ursprünglicher Termin: 5.-6.6.2020\, St. P
 etersburg VERSCHOBEN AUF: 20.-21.5.2021</p><p><a href="https://esil-sedi.eu
 /wp-content/uploads/2019/11/Call-for-Papers-ESIL-IEL-IG-St.-Petersburg-5-6-
 June-2020.pdf">https://esil-sedi.eu/wp-content/uploads/2019/11/Call-for-Pap
 ers-ESIL-IEL-IG-St.-Petersburg-5-6-June-2020.pdf</a></p><p> </p><p>[av_butt
 on label='iCal-Export' link='./feed/eo-events' link_target='' size='small' 
 position='center' label_display='' title_attr='' icon_select='yes' icon='ue
 85b' font='entypo-fontello' color='custom' custom_bg='#b5123e' custom_font=
 '#ffffff' av_uid='' id='' custom_class='' admin_preview_bg='']</p>
CATEGORIES:Europäisches / Internationales Recht
LOCATION:Ausland
GEO:0.000000;0.000000
ORGANIZER;CN="ViFa-Recht":MAILTO:vifa-recht@sbb.spk-berlin.de
URL;VALUE=URI:https://events.intrecht.de/termine/termin/groups-and-spaces-i
 n-international-economic-law-focus-on-the-brics-organized-by-the-interest-g
 roup-on-international-economic-law-konferenz/
END:VEVENT
BEGIN:VTIMEZONE
TZID:Europe/Berlin
BEGIN:DAYLIGHT
TZOFFSETFROM:+0100
TZOFFSETTO:+0200
DTSTART:20210328T010000
TZNAME:CEST
END:DAYLIGHT
END:VTIMEZONE
END:VCALENDAR
