BEGIN:VCALENDAR
VERSION:2.0
PRODID:-//Events | FID-Recht//NONSGML Events//EN
CALSCALE:GREGORIAN
X-ORIGINAL-URL:https://events.intrecht.de/termine/
X-WR-CALDESC:Events | FID-Recht - Events
BEGIN:VEVENT
UID:20200602T0945Z-1591091115.9737-EO-599-1@172.16.200.141
STATUS:CONFIRMED
DTSTAMP:20260423T021256Z
CREATED:20260318T130209Z
LAST-MODIFIED:20260318T130209Z
DTSTART;VALUE=DATE:20270617
DTEND;VALUE=DATE:20270619
SUMMARY: Grotius and Toleration (Conference)
DESCRIPTION: 17.-18.6.2027 / Zürich (Einreichungsfrist: 1.6.2026) https://e
 silhil.blogspot.com/2026/03/call-for-papers-grotius-and-toleration.html
X-ALT-DESC;FMTTYPE=text/html: <p>17.-18.6.2027 / Zürich <strong>(Einreichun
 gsfrist: 1.6.2026)</strong></p><p><a href="https://esilhil.blogspot.com/202
 6/03/call-for-papers-grotius-and-toleration.html">https://esilhil.blogspot.
 com/2026/03/call-for-papers-grotius-and-toleration.html</a></p><p>[av_butto
 n label='iCal-Export' link='./feed/eo-events' link_target='' size='small' p
 osition='center' label_display='' title_attr='' icon_select='yes' icon='ue8
 5b' font='entypo-fontello' color='custom' custom_bg='#b5123e' custom_font='
 #ffffff' av_uid='' id='' custom_class='' admin_preview_bg='']</p>
CATEGORIES:Recht interdisziplinär
LOCATION:Ausland
GEO:0.000000;0.000000
ORGANIZER;CN="ViFa-Recht":MAILTO:vifa-recht@sbb.spk-berlin.de
URL;VALUE=URI:https://events.intrecht.de/termine/termin/grotius-and-tolerat
 ion-conference/
END:VEVENT
BEGIN:VTIMEZONE
TZID:Europe/Berlin
BEGIN:DAYLIGHT
TZOFFSETFROM:+0100
TZOFFSETTO:+0200
DTSTART:20270328T010000
TZNAME:CEST
END:DAYLIGHT
END:VTIMEZONE
END:VCALENDAR
