BEGIN:VCALENDAR
VERSION:2.0
PRODID:-//Events | FID-Recht//NONSGML Events//EN
CALSCALE:GREGORIAN
X-ORIGINAL-URL:https://events.intrecht.de/termine/
X-WR-CALDESC:Events | FID-Recht - Events
BEGIN:VEVENT
UID:20210814T1930Z-1628969423.4982-EO-4358-1@172.16.200.141
STATUS:CONFIRMED
DTSTAMP:20260421T235033Z
CREATED:20210812T125119Z
LAST-MODIFIED:20210812T125119Z
DTSTART;VALUE=DATE:20210923
DTEND;VALUE=DATE:20210925
SUMMARY: Good Faith in Public Law (Online-Tagung)
DESCRIPTION: 23.-24.9.2021\, Online Good Faith in Public Law: CALL FOR PAPE
 RS | Oxford Law Faculty  
X-ALT-DESC;FMTTYPE=text/html: <p>23.-24.9.2021\, Online</p><p><a href="http
 s://www.law.ox.ac.uk/events/good-faith-public-law-call-papers">Good Faith i
 n Public Law: CALL FOR PAPERS | Oxford Law Faculty</a></p><p> </p><p>[av_bu
 tton label='iCal-Export' link='./feed/eo-events' link_target='' size='small
 ' position='center' label_display='' title_attr='' icon_select='yes' icon='
 ue85b' font='entypo-fontello' color='custom' custom_bg='#b5123e' custom_fon
 t='#ffffff' av_uid='' id='' custom_class='' admin_preview_bg='']</p>
CATEGORIES:Öffentliches Recht
LOCATION:Online
GEO:0.000000;0.000000
ORGANIZER;CN="ViFa-Recht":MAILTO:vifa-recht@sbb.spk-berlin.de
URL;VALUE=URI:https://events.intrecht.de/termine/termin/good-faith-in-publi
 c-law-online-tagung/
END:VEVENT
BEGIN:VTIMEZONE
TZID:Europe/Berlin
BEGIN:DAYLIGHT
TZOFFSETFROM:+0100
TZOFFSETTO:+0200
DTSTART:20210328T010000
TZNAME:CEST
END:DAYLIGHT
END:VTIMEZONE
END:VCALENDAR
