BEGIN:VCALENDAR
VERSION:2.0
PRODID:-//Events | FID-Recht//NONSGML Events//EN
CALSCALE:GREGORIAN
X-ORIGINAL-URL:https://events.intrecht.de/termine/
X-WR-CALDESC:Events | FID-Recht - Events
BEGIN:VEVENT
UID:20200603T1418Z-1591193923.3362-EO-587-1@172.16.200.141
STATUS:CONFIRMED
DTSTAMP:20260422T193844Z
CREATED:20240613T094349Z
LAST-MODIFIED:20240613T094349Z
DTSTART;VALUE=DATE:20241025
DTEND;VALUE=DATE:20241028
SUMMARY: Global Transformations: The International System at a Crossroads (
 Research Colloquium of the Young UN Research Working Group (DGVN))
DESCRIPTION: 25.-27.10.2024 / Lüneburg (Einreichungsfrist: 1.7.2024) https:
 //www.leuphana.de/en/institutes/lls/joachim-herz-doctoral-school-of-law/aca
 demics/public-engagement-labs.html
X-ALT-DESC;FMTTYPE=text/html: <p>25.-27.10.2024 / Lüneburg (<strong>Einreic
 hungsfrist: 1.7.2024)</strong></p><p><a href="https://www.leuphana.de/en/in
 stitutes/lls/joachim-herz-doctoral-school-of-law/academics/public-engagemen
 t-labs.html">https://www.leuphana.de/en/institutes/lls/joachim-herz-doctora
 l-school-of-law/academics/public-engagement-labs.html</a></p><p>[av_button 
 label='iCal-Export' link='./feed/eo-events' link_target='' size='small' pos
 ition='center' label_display='' title_attr='' icon_select='yes' icon='ue85b
 ' font='entypo-fontello' color='custom' custom_bg='#b5123e' custom_font='#f
 fffff' av_uid='' id='' custom_class='' admin_preview_bg='']</p>
CATEGORIES:Europäisches / Internationales Recht
LOCATION:Inland
GEO:0.000000;0.000000
ORGANIZER;CN="ViFa-Recht":MAILTO:vifa-recht@sbb.spk-berlin.de
URL;VALUE=URI:https://events.intrecht.de/termine/termin/global-transformati
 ons-the-international-system-at-a-crossroads-research-colloquium-of-the-you
 ng-un-research-working-group-dgvn/
END:VEVENT
BEGIN:VTIMEZONE
TZID:Europe/Berlin
BEGIN:DAYLIGHT
TZOFFSETFROM:+0100
TZOFFSETTO:+0200
DTSTART:20240331T010000
TZNAME:CEST
END:DAYLIGHT
END:VTIMEZONE
END:VCALENDAR
