BEGIN:VCALENDAR
VERSION:2.0
PRODID:-//Events | FID-Recht//NONSGML Events//EN
CALSCALE:GREGORIAN
X-ORIGINAL-URL:https://events.intrecht.de/termine/
X-WR-CALDESC:Events | FID-Recht - Events
BEGIN:VEVENT
UID:20200603T1418Z-1591193923.3362-EO-587-1@172.16.200.141
STATUS:CONFIRMED
DTSTAMP:20260423T034419Z
CREATED:20250429T151757Z
LAST-MODIFIED:20250429T151757Z
DTSTART;VALUE=DATE:20250514
DTEND;VALUE=DATE:20250515
SUMMARY: Global Supply Chain and Modern Slavery Governance – Narratives\, R
 egulatory Practices\, and Accountability (Workshop)
DESCRIPTION: 14.5.2025 / Frankfurt (Oder) https://www.rewi.europa-uni.de/de
 /professuren/buergerl-recht-europ-dt-arbeitsrecht-zivilverfahren/veranstalt
 ung/index.html#workshops-155287265
X-ALT-DESC;FMTTYPE=text/html: <p>14.5.2025 / Frankfurt (Oder)</p><p><a href
 ="https://www.rewi.europa-uni.de/de/professuren/buergerl-recht-europ-dt-arb
 eitsrecht-zivilverfahren/veranstaltung/index.html#workshops-155287265">http
 s://www.rewi.europa-uni.de/de/professuren/buergerl-recht-europ-dt-arbeitsre
 cht-zivilverfahren/veranstaltung/index.html#workshops-155287265</a></p><p>[
 av_button label='iCal-Export' link='./feed/eo-events' link_target='' size='
 small' position='center' label_display='' title_attr='' icon_select='yes' i
 con='ue85b' font='entypo-fontello' color='custom' custom_bg='#b5123e' custo
 m_font='#ffffff' av_uid='' id='' custom_class='' admin_preview_bg='']</p>
CATEGORIES:Zivilrecht
LOCATION:Inland
GEO:0.000000;0.000000
ORGANIZER;CN="ViFa-Recht":MAILTO:vifa-recht@sbb.spk-berlin.de
URL;VALUE=URI:https://events.intrecht.de/termine/termin/global-supply-chain
 -and-modern-slavery-governance-narratives-regulatory-practices-and-accounta
 bility-workshop/
END:VEVENT
BEGIN:VTIMEZONE
TZID:Europe/Berlin
BEGIN:DAYLIGHT
TZOFFSETFROM:+0100
TZOFFSETTO:+0200
DTSTART:20250330T010000
TZNAME:CEST
END:DAYLIGHT
END:VTIMEZONE
END:VCALENDAR
