BEGIN:VCALENDAR
VERSION:2.0
PRODID:-//Events | FID-Recht//NONSGML Events//EN
CALSCALE:GREGORIAN
X-ORIGINAL-URL:https://events.intrecht.de/termine/
X-WR-CALDESC:Events | FID-Recht - Events
BEGIN:VEVENT
UID:20210107T2155Z-1610056521.1393-EO-2920-1@172.16.200.141
STATUS:CONFIRMED
DTSTAMP:20260421T102833Z
CREATED:20201230T150831Z
LAST-MODIFIED:20201230T150831Z
DTSTART;VALUE=DATE:20210112
DTEND;VALUE=DATE:20210117
SUMMARY: Global Summit of the ICON-S – The International Forum on the Futur
 e of Constitutionalism (Online-Tagung)
DESCRIPTION: 12.-16.1.2021\, Online The Global Summit (utexas.edu)  
X-ALT-DESC;FMTTYPE=text/html: <p>12.-16.1.2021\, Online</p><p><a href="http
 s://law.utexas.edu/the-global-summit/">The Global Summit (utexas.edu)</a></
 p><p> </p><p>[av_button label='iCal-Export' link='./feed/eo-events' link_ta
 rget='' size='small' position='center' label_display='' title_attr='' icon_
 select='yes' icon='ue85b' font='entypo-fontello' color='custom' custom_bg='
 #b5123e' custom_font='#ffffff' av_uid='' id='' custom_class='' admin_previe
 w_bg='']</p>
CATEGORIES:Öffentliches Recht
LOCATION:Online
GEO:0.000000;0.000000
ORGANIZER;CN="ViFa-Recht":MAILTO:vifa-recht@sbb.spk-berlin.de
URL;VALUE=URI:https://events.intrecht.de/termine/termin/global-summit-of-th
 e-icon-s-the-international-forum-on-the-future-of-constitutionalism-online-
 tagung/
END:VEVENT
BEGIN:VTIMEZONE
TZID:Europe/Berlin
BEGIN:STANDARD
TZOFFSETFROM:+0200
TZOFFSETTO:+0100
DTSTART:20201025T010000
TZNAME:CET
END:STANDARD
END:VTIMEZONE
END:VCALENDAR
