BEGIN:VCALENDAR
VERSION:2.0
PRODID:-//Events | FID-Recht//NONSGML Events//EN
CALSCALE:GREGORIAN
X-ORIGINAL-URL:https://events.intrecht.de/termine/
X-WR-CALDESC:Events | FID-Recht - Events
BEGIN:VEVENT
UID:20220626T1330Z-1656250241.9592-EO-4299-1@172.16.200.151
STATUS:CONFIRMED
DTSTAMP:20260421T115516Z
CREATED:20220623T141001Z
LAST-MODIFIED:20220623T141001Z
DTSTART;VALUE=DATE:20220712
DTEND;VALUE=DATE:20220712
SUMMARY: Global Legal History – An Anthropological Approach (with Fernanda 
 Pirie) (Vortrag)
DESCRIPTION: 12.7.2022\, Frankfurt/Main Max Planck Lecture in Legal History
  and Legal Theory | Max Planck Institute for Legal History and Legal Theory
  (mpg.de)  
X-ALT-DESC;FMTTYPE=text/html: <p>12.7.2022\, Frankfurt/Main</p><p><a href="
 https://www.lhlt.mpg.de/events/30979/2078412">Max Planck Lecture in Legal H
 istory and Legal Theory | Max Planck Institute for Legal History and Legal 
 Theory (mpg.de)</a></p><p> </p><p>[av_button label='iCal-Export' link='./fe
 ed/eo-events' link_target='' size='small' position='center' label_display='
 ' title_attr='' icon_select='yes' icon='ue85b' font='entypo-fontello' color
 ='custom' custom_bg='#b5123e' custom_font='#ffffff' av_uid='' id='' custom_
 class='' admin_preview_bg='']</p>
CATEGORIES:Recht interdisziplinär
LOCATION:Inland
GEO:0.000000;0.000000
ORGANIZER;CN="ViFa-Recht":MAILTO:vifa-recht@sbb.spk-berlin.de
URL;VALUE=URI:https://events.intrecht.de/termine/termin/global-legal-histor
 y-an-anthropological-approach-with-fernanda-pirie-vortrag/
END:VEVENT
BEGIN:VTIMEZONE
TZID:Europe/Berlin
BEGIN:DAYLIGHT
TZOFFSETFROM:+0100
TZOFFSETTO:+0200
DTSTART:20220327T010000
TZNAME:CEST
END:DAYLIGHT
END:VTIMEZONE
END:VCALENDAR
