BEGIN:VCALENDAR
VERSION:2.0
PRODID:-//Events | FID-Recht//NONSGML Events//EN
CALSCALE:GREGORIAN
X-ORIGINAL-URL:https://events.intrecht.de/termine/
X-WR-CALDESC:Events | FID-Recht - Events
BEGIN:VEVENT
UID:20200603T1418Z-1591193923.3362-EO-587-1@172.16.200.141
STATUS:CONFIRMED
DTSTAMP:20260422T225300Z
CREATED:20241202T173547Z
LAST-MODIFIED:20241202T173547Z
DTSTART;VALUE=DATE:20241203
DTEND;VALUE=DATE:20241204
SUMMARY: Global Health Law and Justice: An Unfinished Agenda (Podiumsdiskus
 sion / Heidelberger Salon)
DESCRIPTION: 3.12.2024 / Berlin https://www.mpil.de/de/pub/aktuelles/verans
 taltungen.cfm?calendar.Display&cat=3&iDisplayID=7&event_ID=963&date=11/27/2
 024
X-ALT-DESC;FMTTYPE=text/html: <p>3.12.2024 / Berlin</p><p><a href="https://
 www.mpil.de/de/pub/aktuelles/veranstaltungen.cfm?calendar.Display&cat=3&iDi
 splayID=7&event_ID=963&date=11/27/2024">https://www.mpil.de/de/pub/aktuelle
 s/veranstaltungen.cfm?calendar.Display&cat=3&iDisplayID=7&event_ID=963&date
 =11/27/2024</a></p><p>[av_button label='iCal-Export' link='./feed/eo-events
 ' link_target='' size='small' position='center' label_display='' title_attr
 ='' icon_select='yes' icon='ue85b' font='entypo-fontello' color='custom' cu
 stom_bg='#b5123e' custom_font='#ffffff' av_uid='' id='' custom_class='' adm
 in_preview_bg='']</p>
CATEGORIES:Europäisches / Internationales Recht
LOCATION:Inland
GEO:0.000000;0.000000
ORGANIZER;CN="ViFa-Recht":MAILTO:vifa-recht@sbb.spk-berlin.de
URL;VALUE=URI:https://events.intrecht.de/termine/termin/global-health-law-a
 nd-justice-an-unfinished-agenda-podiumsdiskussion-heidelberger-salon/
END:VEVENT
BEGIN:VTIMEZONE
TZID:Europe/Berlin
BEGIN:STANDARD
TZOFFSETFROM:+0200
TZOFFSETTO:+0100
DTSTART:20241027T010000
TZNAME:CET
END:STANDARD
END:VTIMEZONE
END:VCALENDAR
