BEGIN:VCALENDAR
VERSION:2.0
PRODID:-//Events | FID-Recht//NONSGML Events//EN
CALSCALE:GREGORIAN
X-ORIGINAL-URL:https://events.intrecht.de/termine/
X-WR-CALDESC:Events | FID-Recht - Events
BEGIN:VEVENT
UID:20210825T0201Z-1629856916.3272-EO-4372-1@172.16.200.141
STATUS:CONFIRMED
DTSTAMP:20260421T115435Z
CREATED:20210823T143139Z
LAST-MODIFIED:20210823T143139Z
DTSTART;VALUE=DATE:20210902
DTEND;VALUE=DATE:20210902
SUMMARY: Global Governance and Corporate Social Responsibility (mit Yuko Ni
 shitani) (Online-Vortrag)
DESCRIPTION: 2.9.2021\, Online https://lotus2.gwdg.de/mpg/mhap/global_gover
 nance_and_corporate_social_responsibility_2021.nsf/registration  
X-ALT-DESC;FMTTYPE=text/html: <p>2.9.2021\, Online</p><p><a href="https://l
 otus2.gwdg.de/mpg/mhap/global_governance_and_corporate_social_responsibilit
 y_2021.nsf/registration">https://lotus2.gwdg.de/mpg/mhap/global_governance_
 and_corporate_social_responsibility_2021.nsf/registration</a></p><p> </p><p
 >[av_button label='iCal-Export' link='./feed/eo-events' link_target='' size
 ='small' position='center' label_display='' title_attr='' icon_select='yes'
  icon='ue85b' font='entypo-fontello' color='custom' custom_bg='#b5123e' cus
 tom_font='#ffffff' av_uid='' id='' custom_class='' admin_preview_bg='']</p>
CATEGORIES:Europäisches / Internationales Recht
LOCATION:Online
GEO:0.000000;0.000000
ORGANIZER;CN="ViFa-Recht":MAILTO:vifa-recht@sbb.spk-berlin.de
URL;VALUE=URI:https://events.intrecht.de/termine/termin/global-governance-a
 nd-corporate-social-responsibility-mit-yuko-nishitani-online-vortrag/
END:VEVENT
BEGIN:VTIMEZONE
TZID:Europe/Berlin
BEGIN:DAYLIGHT
TZOFFSETFROM:+0100
TZOFFSETTO:+0200
DTSTART:20210328T010000
TZNAME:CEST
END:DAYLIGHT
END:VTIMEZONE
END:VCALENDAR
