BEGIN:VCALENDAR
VERSION:2.0
PRODID:-//Events | FID-Recht//NONSGML Events//EN
CALSCALE:GREGORIAN
X-ORIGINAL-URL:https://events.intrecht.de/termine/
X-WR-CALDESC:Events | FID-Recht - Events
BEGIN:VEVENT
UID:20220501T1421Z-1651414915.7108-EO-6780-1@172.16.200.141
STATUS:CONFIRMED
DTSTAMP:20260420T113303Z
CREATED:20220422T091549Z
LAST-MODIFIED:20220422T091637Z
DTSTART;VALUE=DATE:20220502
DTEND;VALUE=DATE:20220502
SUMMARY: Global financial markets and legal convergence – The genesis of in
 solvency set-off in England\, Germany and Switzerland (with Jonathan Silber
 stein-Loeb and Claude Humbel) (Online-Vortrag)
DESCRIPTION: 2.5.2022\, Online Common Law Research Seminar | Max-Planck-Ins
 titut für Rechtsgeschichte und Rechtstheorie (mpg.de)  
X-ALT-DESC;FMTTYPE=text/html: <p>2.5.2022\, Online</p><p><a href="https://w
 ww.lhlt.mpg.de/events/30639/2077701">Common Law Research Seminar | Max-Plan
 ck-Institut für Rechtsgeschichte und Rechtstheorie (mpg.de)</a></p><p> </p>
 <p>[av_button label='iCal-Export' link='./feed/eo-events' link_target='' si
 ze='small' position='center' label_display='' title_attr='' icon_select='ye
 s' icon='ue85b' font='entypo-fontello' color='custom' custom_bg='#b5123e' c
 ustom_font='#ffffff' av_uid='' id='' custom_class='' admin_preview_bg='']</
 p>
CATEGORIES:Recht interdisziplinär
LOCATION:Online
GEO:0.000000;0.000000
ORGANIZER;CN="ViFa-Recht":MAILTO:vifa-recht@sbb.spk-berlin.de
URL;VALUE=URI:https://events.intrecht.de/termine/termin/global-financial-ma
 rkets-and-legal-convergence-the-genesis-of-insolvency-set-off-in-england-ge
 rmany-and-switzerland-with-jonathan-silberstein-loeb-and-claude-humbel-onli
 ne-vortrag/
END:VEVENT
BEGIN:VTIMEZONE
TZID:Europe/Berlin
BEGIN:DAYLIGHT
TZOFFSETFROM:+0100
TZOFFSETTO:+0200
DTSTART:20220327T010000
TZNAME:CEST
END:DAYLIGHT
END:VTIMEZONE
END:VCALENDAR
